BEGIN:VCALENDAR
VERSION:2.0
PRODID:-//Mens &amp; Intuïtie - ECPv6.15.17.1//NONSGML v1.0//EN
CALSCALE:GREGORIAN
METHOD:PUBLISH
X-ORIGINAL-URL:https://mensenintuitie.nl
X-WR-CALDESC:Evenementen voor Mens &amp; Intuïtie
REFRESH-INTERVAL;VALUE=DURATION:PT1H
X-Robots-Tag:noindex
X-PUBLISHED-TTL:PT1H
BEGIN:VTIMEZONE
TZID:Europe/Amsterdam
BEGIN:DAYLIGHT
TZOFFSETFROM:+0100
TZOFFSETTO:+0200
TZNAME:CEST
DTSTART:20240331T010000
END:DAYLIGHT
BEGIN:STANDARD
TZOFFSETFROM:+0200
TZOFFSETTO:+0100
TZNAME:CET
DTSTART:20241027T010000
END:STANDARD
BEGIN:DAYLIGHT
TZOFFSETFROM:+0100
TZOFFSETTO:+0200
TZNAME:CEST
DTSTART:20250330T010000
END:DAYLIGHT
BEGIN:STANDARD
TZOFFSETFROM:+0200
TZOFFSETTO:+0100
TZNAME:CET
DTSTART:20251026T010000
END:STANDARD
BEGIN:DAYLIGHT
TZOFFSETFROM:+0100
TZOFFSETTO:+0200
TZNAME:CEST
DTSTART:20260329T010000
END:DAYLIGHT
BEGIN:STANDARD
TZOFFSETFROM:+0200
TZOFFSETTO:+0100
TZNAME:CET
DTSTART:20261025T010000
END:STANDARD
BEGIN:DAYLIGHT
TZOFFSETFROM:+0100
TZOFFSETTO:+0200
TZNAME:CEST
DTSTART:20270328T010000
END:DAYLIGHT
BEGIN:STANDARD
TZOFFSETFROM:+0200
TZOFFSETTO:+0100
TZNAME:CET
DTSTART:20271031T010000
END:STANDARD
END:VTIMEZONE
BEGIN:VEVENT
DTSTART;TZID=Europe/Amsterdam:20260410T090000
DTEND;TZID=Europe/Amsterdam:20260410T170000
DTSTAMP:20260425T200823
CREATED:20250705T102628Z
LAST-MODIFIED:20250705T102629Z
UID:10425-1775811600-1775840400@mensenintuitie.nl
SUMMARY:Lightworker groep D\, dag 9
DESCRIPTION:
URL:https://mensenintuitie.nl/agenda/lightworker-groep-d-dag-9/
LOCATION:M&I Hoevelaken\, Hogebrinkerweg 10\, Hoevelaken\, 3871 KN
CATEGORIES:Lightworker
ORGANIZER;CN="M&I":MAILTO:info@mensenintuitie.nl
END:VEVENT
BEGIN:VEVENT
DTSTART;TZID=Europe/Amsterdam:20260322T090000
DTEND;TZID=Europe/Amsterdam:20260322T170000
DTSTAMP:20260425T200823
CREATED:20250705T102607Z
LAST-MODIFIED:20250705T102608Z
UID:10426-1774170000-1774198800@mensenintuitie.nl
SUMMARY:Lightworker groep D\, dag 8
DESCRIPTION:
URL:https://mensenintuitie.nl/agenda/lightworker-groep-d-dag-8/
LOCATION:M&I Hoevelaken\, Hogebrinkerweg 10\, Hoevelaken\, 3871 KN
CATEGORIES:Lightworker
ORGANIZER;CN="M&I":MAILTO:info@mensenintuitie.nl
END:VEVENT
BEGIN:VEVENT
DTSTART;TZID=Europe/Amsterdam:20260321T103000
DTEND;TZID=Europe/Amsterdam:20260321T120000
DTSTAMP:20260425T200823
CREATED:20250920T113125Z
LAST-MODIFIED:20260114T093753Z
UID:10699-1774089000-1774094400@mensenintuitie.nl
SUMMARY:Gastenles Lightworker Groep D
DESCRIPTION:Je bent van harte welkom bij onze gastenles! Zorg ervoor dat je een kwartier van tevoren op de locatie bent. Je wordt opgehaald en krijgt een korte uitleg over wat je kunt verwachten. De les duurt in totaal ongeveer anderhalf uur. Als je wilt meedoen\, kun je je gratis inschrijven via de link bij het evenement. We kijken ernaar uit je te verwelkomen! \n\n\n	\n	\n	Plekken beschikbaar: 8\n	\n    \n\n	    \n    \n        		Er zijn fouten opgetreden bij je inzending. Probeer het opnieuw.\n		\n        \n\n\n	Schrijf je hieronder in	\n\n	\n\n				\n				\n\n		\n		\n			\n			\n	\n		\n\n	Voornaam*\n	\n						\n									\n\n\n\n	Achternaam*\n	\n						\n									\n\n\n\n	E-mail*\n	\n						\n									\n\n\n\n	Geef aan of je via een cursist komt of buiten M&I. Op deze manier krijgen we inzicht in nieuwe aanmeldingen.*\n	\n					\n				Via een cursist\n			\n						\n				Buiten M&I\n			\n								\n\n\n\n	Wat is 2 + 5*\n	\n						\n									\n\n	\n		\n\n				\n			Address\n			\n				\n				Vul dit veld niet in om te bewijzen dat je geen robot bent
URL:https://mensenintuitie.nl/agenda/gastenles-lightworker-groep-d-2/
LOCATION:M&I Hoevelaken\, Hogebrinkerweg 10\, Hoevelaken\, 3871 KN
CATEGORIES:Gastenles,Lightworker
ORGANIZER;CN="M&I":MAILTO:info@mensenintuitie.nl
END:VEVENT
BEGIN:VEVENT
DTSTART;TZID=Europe/Amsterdam:20260321T090000
DTEND;TZID=Europe/Amsterdam:20260321T170000
DTSTAMP:20260425T200823
CREATED:20250705T102538Z
LAST-MODIFIED:20250705T102538Z
UID:10427-1774083600-1774112400@mensenintuitie.nl
SUMMARY:Lightworker groep D\, dag 7
DESCRIPTION:
URL:https://mensenintuitie.nl/agenda/lightworker-groep-d-dag-7/
LOCATION:M&I Hoevelaken\, Hogebrinkerweg 10\, Hoevelaken\, 3871 KN
CATEGORIES:Lightworker
ORGANIZER;CN="M&I":MAILTO:info@mensenintuitie.nl
END:VEVENT
BEGIN:VEVENT
DTSTART;TZID=Europe/Amsterdam:20260227T103000
DTEND;TZID=Europe/Amsterdam:20260227T120000
DTSTAMP:20260425T200823
CREATED:20250920T113354Z
LAST-MODIFIED:20260114T093912Z
UID:10703-1772188200-1772193600@mensenintuitie.nl
SUMMARY:Gastenles Lightworker Groep D
DESCRIPTION:Je bent van harte welkom bij onze gastenles! Zorg ervoor dat je een kwartier van tevoren op de locatie bent. Je wordt opgehaald en krijgt een korte uitleg over wat je kunt verwachten. De les duurt in totaal ongeveer anderhalf uur. Als je wilt meedoen\, kun je je gratis inschrijven via de link bij het evenement. We kijken ernaar uit je te verwelkomen! \n\n\n	\n	\n	Plekken beschikbaar: 8\n	\n    \n\n	    \n    \n        		Er zijn fouten opgetreden bij je inzending. Probeer het opnieuw.\n		\n        \n\n\n	Schrijf je hieronder in	\n\n	\n\n				\n				\n\n		\n		\n			\n			\n	\n		\n\n	Voornaam*\n	\n						\n									\n\n\n\n	Achternaam*\n	\n						\n									\n\n\n\n	E-mail*\n	\n						\n									\n\n\n\n	Geef aan of je via een cursist komt of buiten M&I. Op deze manier krijgen we inzicht in nieuwe aanmeldingen.*\n	\n					\n				Via een cursist\n			\n						\n				Buiten M&I\n			\n								\n\n\n\n	Wat is 5 + 4*\n	\n						\n									\n\n	\n		\n\n				\n			Address\n			\n				\n				Vul dit veld niet in om te bewijzen dat je geen robot bent
URL:https://mensenintuitie.nl/agenda/gastenles-lightworker-groep-d-4/
LOCATION:M&I Hoevelaken\, Hogebrinkerweg 10\, Hoevelaken\, 3871 KN
CATEGORIES:Gastenles,Lightworker
ORGANIZER;CN="M&I":MAILTO:info@mensenintuitie.nl
END:VEVENT
BEGIN:VEVENT
DTSTART;TZID=Europe/Amsterdam:20260227T090000
DTEND;TZID=Europe/Amsterdam:20260227T170000
DTSTAMP:20260425T200823
CREATED:20250705T102517Z
LAST-MODIFIED:20250705T102518Z
UID:10428-1772182800-1772211600@mensenintuitie.nl
SUMMARY:Lightworker groep D\, dag 6
DESCRIPTION:
URL:https://mensenintuitie.nl/agenda/lightworker-groep-d-dag-6/
LOCATION:M&I Hoevelaken\, Hogebrinkerweg 10\, Hoevelaken\, 3871 KN
CATEGORIES:Lightworker
ORGANIZER;CN="M&I":MAILTO:info@mensenintuitie.nl
END:VEVENT
BEGIN:VEVENT
DTSTART;TZID=Europe/Amsterdam:20260121T093000
DTEND;TZID=Europe/Amsterdam:20260121T173000
DTSTAMP:20260425T200823
CREATED:20250705T102456Z
LAST-MODIFIED:20260121T102605Z
UID:10435-1768987800-1769016600@mensenintuitie.nl
SUMMARY:Lightworker groep D
DESCRIPTION:
URL:https://mensenintuitie.nl/agenda/lightworker-groep-d-dag-5/
LOCATION:M&I Hoevelaken\, Hogebrinkerweg 10\, Hoevelaken\, 3871 KN
CATEGORIES:Lightworker
ORGANIZER;CN="M&I":MAILTO:info@mensenintuitie.nl
END:VEVENT
BEGIN:VEVENT
DTSTART;TZID=Europe/Amsterdam:20260111T090000
DTEND;TZID=Europe/Amsterdam:20260111T170000
DTSTAMP:20260425T200823
CREATED:20250705T102430Z
LAST-MODIFIED:20260108T233022Z
UID:10436-1768122000-1768150800@mensenintuitie.nl
SUMMARY:Gecanceled!!! Lightworker groep D\, dag 4
DESCRIPTION:
URL:https://mensenintuitie.nl/agenda/lightworker-groep-d-dag-4/
LOCATION:M&I Hoevelaken\, Hogebrinkerweg 10\, Hoevelaken\, 3871 KN
CATEGORIES:Lightworker
ORGANIZER;CN="M&I":MAILTO:info@mensenintuitie.nl
END:VEVENT
BEGIN:VEVENT
DTSTART;TZID=Europe/Amsterdam:20251219T090000
DTEND;TZID=Europe/Amsterdam:20251219T170000
DTSTAMP:20260425T200823
CREATED:20250705T102409Z
LAST-MODIFIED:20250705T102409Z
UID:10437-1766134800-1766163600@mensenintuitie.nl
SUMMARY:Lightworker groep D\, dag 3
DESCRIPTION:
URL:https://mensenintuitie.nl/agenda/lightworker-groep-d-dag-3/
LOCATION:M&I Hoevelaken\, Hogebrinkerweg 10\, Hoevelaken\, 3871 KN
CATEGORIES:Lightworker
ORGANIZER;CN="M&I":MAILTO:info@mensenintuitie.nl
END:VEVENT
BEGIN:VEVENT
DTSTART;TZID=Europe/Amsterdam:20251130T090000
DTEND;TZID=Europe/Amsterdam:20251130T170000
DTSTAMP:20260425T200823
CREATED:20250705T102348Z
LAST-MODIFIED:20250705T102349Z
UID:10438-1764493200-1764522000@mensenintuitie.nl
SUMMARY:Lightworker groep D\, dag 2
DESCRIPTION:
URL:https://mensenintuitie.nl/agenda/lightworker-groep-d-dag-2/
LOCATION:M&I Hoevelaken\, Hogebrinkerweg 10\, Hoevelaken\, 3871 KN
CATEGORIES:Lightworker
ORGANIZER;CN="M&I":MAILTO:info@mensenintuitie.nl
END:VEVENT
BEGIN:VEVENT
DTSTART;TZID=Europe/Amsterdam:20251129T090000
DTEND;TZID=Europe/Amsterdam:20251129T170000
DTSTAMP:20260425T200823
CREATED:20250705T101907Z
LAST-MODIFIED:20250705T101908Z
UID:10417-1764406800-1764435600@mensenintuitie.nl
SUMMARY:Lightworker groep D\, dag 1
DESCRIPTION:
URL:https://mensenintuitie.nl/agenda/lightworker-groep-d-dag-1/
LOCATION:M&I Hoevelaken\, Hogebrinkerweg 10\, Hoevelaken\, 3871 KN
CATEGORIES:Lightworker
ORGANIZER;CN="M&I":MAILTO:info@mensenintuitie.nl
END:VEVENT
BEGIN:VEVENT
DTSTART;TZID=Europe/Amsterdam:20251101T103000
DTEND;TZID=Europe/Amsterdam:20251101T120000
DTSTAMP:20260425T200823
CREATED:20250223T234344Z
LAST-MODIFIED:20251030T080456Z
UID:9697-1761993000-1761998400@mensenintuitie.nl
SUMMARY:Gastenles Reading groep  D
DESCRIPTION:Je bent van harte welkom bij onze gastenles! Zorg ervoor dat je een kwartier van tevoren op de locatie bent. Je wordt opgehaald en krijgt een korte uitleg over wat je kunt verwachten. De les duurt in totaal ongeveer anderhalf uur. Als je wilt meedoen\, kun je je gratis inschrijven via de link bij het evenement. We kijken ernaar uit je te verwelkomen! \n\n\n\n	\n	\n	Plekken beschikbaar: 8\n	\n    \n\n	    \n    \n        		Er zijn fouten opgetreden bij je inzending. Probeer het opnieuw.\n		\n        \n\n\n	Schrijf je hieronder in	\n\n	\n\n				\n				\n\n		\n		\n			\n			\n	\n		\n\n	Voornaam*\n	\n						\n									\n\n\n\n	Achternaam*\n	\n						\n									\n\n\n\n	E-mail*\n	\n						\n									\n\n\n\n	Geef aan of je via een cursist komt of buiten M&I. Op deze manier krijgen we inzicht in nieuwe aanmeldingen.*\n	\n					\n				Via een cursist\n			\n						\n				Buiten M&I\n			\n								\n\n\n\n	Wat is 3 + 3*\n	\n						\n									\n\n	\n		\n\n				\n			Address\n			\n				\n				Vul dit veld niet in om te bewijzen dat je geen robot bent
URL:https://mensenintuitie.nl/agenda/gastenles-groep-d-6/
LOCATION:M&I Hoevelaken\, Hogebrinkerweg 10\, Hoevelaken\, 3871 KN
CATEGORIES:Gastenles
END:VEVENT
BEGIN:VEVENT
DTSTART;TZID=Europe/Amsterdam:20251101T090000
DTEND;TZID=Europe/Amsterdam:20251101T170000
DTSTAMP:20260425T200823
CREATED:20250223T154643Z
LAST-MODIFIED:20250223T165719Z
UID:9527-1761987600-1762016400@mensenintuitie.nl
SUMMARY:Reading groep D\, dag 12
DESCRIPTION:
URL:https://mensenintuitie.nl/agenda/reading-groep-d-dag-12/
LOCATION:M&I Hoevelaken\, Hogebrinkerweg 10\, Hoevelaken\, 3871 KN
CATEGORIES:Reading
END:VEVENT
BEGIN:VEVENT
DTSTART;TZID=Europe/Amsterdam:20251005T090000
DTEND;TZID=Europe/Amsterdam:20251005T170000
DTSTAMP:20260425T200823
CREATED:20250223T154603Z
LAST-MODIFIED:20250223T165702Z
UID:9525-1759654800-1759683600@mensenintuitie.nl
SUMMARY:Reading groep D\, dag 11
DESCRIPTION:
URL:https://mensenintuitie.nl/agenda/reading-groep-d-dag-11/
LOCATION:M&I Hoevelaken\, Hogebrinkerweg 10\, Hoevelaken\, 3871 KN
CATEGORIES:Reading
END:VEVENT
BEGIN:VEVENT
DTSTART;TZID=Europe/Amsterdam:20250914T100000
DTEND;TZID=Europe/Amsterdam:20250914T113000
DTSTAMP:20260425T200823
CREATED:20250223T234343Z
LAST-MODIFIED:20250911T142910Z
UID:9693-1757844000-1757849400@mensenintuitie.nl
SUMMARY:Gastenles Reading groep  D
DESCRIPTION:Je bent van harte welkom bij onze gastenles! Zorg ervoor dat je een kwartier van tevoren op de locatie bent. Je wordt opgehaald en krijgt een korte uitleg over wat je kunt verwachten. De les duurt in totaal ongeveer anderhalf uur. Als je wilt meedoen\, kun je je gratis inschrijven via de link bij het evenement. We kijken ernaar uit je te verwelkomen! \n\n\n\n	\n	\n	Plekken beschikbaar: 8\n	\n    \n\n	    \n    \n        		Er zijn fouten opgetreden bij je inzending. Probeer het opnieuw.\n		\n        \n\n\n	Schrijf je hieronder in	\n\n	\n\n				\n				\n\n		\n		\n			\n			\n	\n		\n\n	Voornaam*\n	\n						\n									\n\n\n\n	Achternaam*\n	\n						\n									\n\n\n\n	E-mail*\n	\n						\n									\n\n\n\n	Geef aan of je via een cursist komt of buiten M&I. Op deze manier krijgen we inzicht in nieuwe aanmeldingen.*\n	\n					\n				Via een cursist\n			\n						\n				Buiten M&I\n			\n								\n\n\n\n	Wat is 5 + 4*\n	\n						\n									\n\n	\n		\n\n				\n			Address\n			\n				\n				Vul dit veld niet in om te bewijzen dat je geen robot bent
URL:https://mensenintuitie.nl/agenda/gastenles-groep-d-2/
LOCATION:M&I Hoevelaken\, Hogebrinkerweg 10\, Hoevelaken\, 3871 KN
CATEGORIES:Gastenles
END:VEVENT
BEGIN:VEVENT
DTSTART;TZID=Europe/Amsterdam:20250914T090000
DTEND;TZID=Europe/Amsterdam:20250914T170000
DTSTAMP:20260425T200823
CREATED:20250223T154438Z
LAST-MODIFIED:20250223T165639Z
UID:9523-1757840400-1757869200@mensenintuitie.nl
SUMMARY:Reading groep D\, dag 10
DESCRIPTION:
URL:https://mensenintuitie.nl/agenda/reading-groep-d-dag-10/
LOCATION:M&I Hoevelaken\, Hogebrinkerweg 10\, Hoevelaken\, 3871 KN
CATEGORIES:Reading
END:VEVENT
BEGIN:VEVENT
DTSTART;TZID=Europe/Amsterdam:20250913T090000
DTEND;TZID=Europe/Amsterdam:20250913T170000
DTSTAMP:20260425T200823
CREATED:20250223T154339Z
LAST-MODIFIED:20250223T165617Z
UID:9521-1757754000-1757782800@mensenintuitie.nl
SUMMARY:Reading groep D\, dag 9
DESCRIPTION:
URL:https://mensenintuitie.nl/agenda/reading-groep-d-dag-9/
LOCATION:M&I Hoevelaken\, Hogebrinkerweg 10\, Hoevelaken\, 3871 KN
CATEGORIES:Reading
END:VEVENT
BEGIN:VEVENT
DTSTART;TZID=Europe/Amsterdam:20250706T100000
DTEND;TZID=Europe/Amsterdam:20250706T113000
DTSTAMP:20260425T200823
CREATED:20250224T000156Z
LAST-MODIFIED:20250224T113903Z
UID:9706-1751796000-1751801400@mensenintuitie.nl
SUMMARY:Gastenles Reading groep  D
DESCRIPTION:Je bent van harte welkom bij onze gastenles! Zorg ervoor dat je een kwartier van tevoren op de locatie bent. Je wordt opgehaald en krijgt een korte uitleg over wat je kunt verwachten. De les duurt in totaal ongeveer anderhalf uur. Als je wilt meedoen\, kun je je gratis inschrijven via de link bij het evenement. We kijken ernaar uit je te verwelkomen! \n\n\n\n	\n	\n	Plekken beschikbaar: 8\n	\n    \n\n	    \n    \n        		Er zijn fouten opgetreden bij je inzending. Probeer het opnieuw.\n		\n        \n\n\n	Schrijf je hieronder in	\n\n	\n\n				\n				\n\n		\n		\n			\n			\n	\n		\n\n	Voornaam*\n	\n						\n									\n\n\n\n	Achternaam*\n	\n						\n									\n\n\n\n	E-mail*\n	\n						\n									\n\n\n\n	Geef aan of je via een cursist komt of buiten M&I. Op deze manier krijgen we inzicht in nieuwe aanmeldingen.*\n	\n					\n				Via een cursist\n			\n						\n				Buiten M&I\n			\n								\n\n\n\n	Wat is 2 + 2*\n	\n						\n									\n\n	\n		\n\n				\n			Address\n			\n				\n				Vul dit veld niet in om te bewijzen dat je geen robot bent
URL:https://mensenintuitie.nl/agenda/gastenles-reading-groep-d/
LOCATION:M&I Hoevelaken\, Hogebrinkerweg 10\, Hoevelaken\, 3871 KN
CATEGORIES:Gastenles
END:VEVENT
BEGIN:VEVENT
DTSTART;TZID=Europe/Amsterdam:20250706T090000
DTEND;TZID=Europe/Amsterdam:20250706T170000
DTSTAMP:20260425T200823
CREATED:20250223T154215Z
LAST-MODIFIED:20250223T165555Z
UID:9519-1751792400-1751821200@mensenintuitie.nl
SUMMARY:Reading groep D\, dag 8
DESCRIPTION:
URL:https://mensenintuitie.nl/agenda/reading-groep-d-dag-8/
LOCATION:M&I Hoevelaken\, Hogebrinkerweg 10\, Hoevelaken\, 3871 KN
CATEGORIES:Reading
END:VEVENT
BEGIN:VEVENT
DTSTART;TZID=Europe/Amsterdam:20250614T100000
DTEND;TZID=Europe/Amsterdam:20250614T113000
DTSTAMP:20260425T200823
CREATED:20250223T234343Z
LAST-MODIFIED:20250226T100732Z
UID:9695-1749895200-1749900600@mensenintuitie.nl
SUMMARY:Gastenles Readinggroep  D
DESCRIPTION:Je bent van harte welkom bij onze gastenles! Zorg ervoor dat je een kwartier van tevoren op de locatie bent. Je wordt opgehaald en krijgt een korte uitleg over wat je kunt verwachten. De les duurt in totaal ongeveer anderhalf uur. Als je wilt meedoen\, kun je je gratis inschrijven via de link bij het evenement. We kijken ernaar uit je te verwelkomen! \n\n\n\n	\n	\n	Plekken beschikbaar: 8\n	\n    \n\n	    \n    \n        		Er zijn fouten opgetreden bij je inzending. Probeer het opnieuw.\n		\n        \n\n\n	Schrijf je hieronder in	\n\n	\n\n				\n				\n\n		\n		\n			\n			\n	\n		\n\n	Voornaam*\n	\n						\n									\n\n\n\n	Achternaam*\n	\n						\n									\n\n\n\n	E-mail*\n	\n						\n									\n\n\n\n	Geef aan of je via een cursist komt of buiten M&I. Op deze manier krijgen we inzicht in nieuwe aanmeldingen.*\n	\n					\n				Via een cursist\n			\n						\n				Buiten M&I\n			\n								\n\n\n\n	Wat is 5 + 2*\n	\n						\n									\n\n	\n		\n\n				\n			Address\n			\n				\n				Vul dit veld niet in om te bewijzen dat je geen robot bent
URL:https://mensenintuitie.nl/agenda/gastenles-groep-d-4/
LOCATION:M&I Hoevelaken\, Hogebrinkerweg 10\, Hoevelaken\, 3871 KN
CATEGORIES:Gastenles,Reading
END:VEVENT
BEGIN:VEVENT
DTSTART;TZID=Europe/Amsterdam:20250614T090000
DTEND;TZID=Europe/Amsterdam:20250614T170000
DTSTAMP:20260425T200823
CREATED:20250223T153517Z
LAST-MODIFIED:20250226T100704Z
UID:9513-1749891600-1749920400@mensenintuitie.nl
SUMMARY:Reading groep D\, dag 7
DESCRIPTION:
URL:https://mensenintuitie.nl/agenda/reading-groep-d-dag-7/
LOCATION:M&I Hoevelaken\, Hogebrinkerweg 10\, Hoevelaken\, 3871 KN
CATEGORIES:Reading
END:VEVENT
BEGIN:VEVENT
DTSTART;TZID=Europe/Amsterdam:20250613T100000
DTEND;TZID=Europe/Amsterdam:20250613T113000
DTSTAMP:20260425T200823
CREATED:20250223T234343Z
LAST-MODIFIED:20250226T100617Z
UID:9694-1749808800-1749814200@mensenintuitie.nl
SUMMARY:Gastenles Reading groep  D
DESCRIPTION:Je bent van harte welkom bij onze gastenles! Zorg ervoor dat je een kwartier van tevoren op de locatie bent. Je wordt opgehaald en krijgt een korte uitleg over wat je kunt verwachten. De les duurt in totaal ongeveer anderhalf uur. Als je wilt meedoen\, kun je je gratis inschrijven via de link bij het evenement. We kijken ernaar uit je te verwelkomen! \n\n\n\n	\n	\n	Plekken beschikbaar: 8\n	\n    \n\n	    \n    \n        		Er zijn fouten opgetreden bij je inzending. Probeer het opnieuw.\n		\n        \n\n\n	Schrijf je hieronder in	\n\n	\n\n				\n				\n\n		\n		\n			\n			\n	\n		\n\n	Voornaam*\n	\n						\n									\n\n\n\n	Achternaam*\n	\n						\n									\n\n\n\n	E-mail*\n	\n						\n									\n\n\n\n	Geef aan of je via een cursist komt of buiten M&I. Op deze manier krijgen we inzicht in nieuwe aanmeldingen.*\n	\n					\n				Via een cursist\n			\n						\n				Buiten M&I\n			\n								\n\n\n\n	Wat is 3 + 5*\n	\n						\n									\n\n	\n		\n\n				\n			Address\n			\n				\n				Vul dit veld niet in om te bewijzen dat je geen robot bent
URL:https://mensenintuitie.nl/agenda/gastenles-groep-d-3/
LOCATION:M&I Hoevelaken\, Hogebrinkerweg 10\, Hoevelaken\, 3871 KN
CATEGORIES:Gastenles,Reading
END:VEVENT
BEGIN:VEVENT
DTSTART;TZID=Europe/Amsterdam:20250613T090000
DTEND;TZID=Europe/Amsterdam:20250613T170000
DTSTAMP:20260425T200823
CREATED:20250223T153410Z
LAST-MODIFIED:20250226T100539Z
UID:9511-1749805200-1749834000@mensenintuitie.nl
SUMMARY:Reading groep D\, dag 6
DESCRIPTION:
URL:https://mensenintuitie.nl/agenda/reading-groep-d-dag-6/
LOCATION:M&I Hoevelaken\, Hogebrinkerweg 10\, Hoevelaken\, 3871 KN
CATEGORIES:Reading
END:VEVENT
BEGIN:VEVENT
DTSTART;TZID=Europe/Amsterdam:20250525T090000
DTEND;TZID=Europe/Amsterdam:20250525T170000
DTSTAMP:20260425T200823
CREATED:20250223T151706Z
LAST-MODIFIED:20250223T165436Z
UID:9497-1748163600-1748192400@mensenintuitie.nl
SUMMARY:Reading groep D\, dag 5
DESCRIPTION:
URL:https://mensenintuitie.nl/agenda/reading-groep-d-dag-5/
LOCATION:M&I Hoevelaken\, Hogebrinkerweg 10\, Hoevelaken\, 3871 KN
CATEGORIES:Reading
END:VEVENT
BEGIN:VEVENT
DTSTART;TZID=Europe/Amsterdam:20250419T100000
DTEND;TZID=Europe/Amsterdam:20250419T113000
DTSTAMP:20260425T200823
CREATED:20250223T234342Z
LAST-MODIFIED:20250224T110749Z
UID:9692-1745056800-1745062200@mensenintuitie.nl
SUMMARY:Gastenles Reading groep  D
DESCRIPTION:Je bent van harte welkom bij onze gastenles! Zorg ervoor dat je een kwartier van tevoren op de locatie bent. Je wordt opgehaald en krijgt een korte uitleg over wat je kunt verwachten. De les duurt in totaal ongeveer anderhalf uur. Als je wilt meedoen\, kun je je gratis inschrijven via de link bij het evenement. We kijken ernaar uit je te verwelkomen! \n\n\n\n	\n	\n	Plekken beschikbaar: 8\n	\n    \n\n	    \n    \n        		Er zijn fouten opgetreden bij je inzending. Probeer het opnieuw.\n		\n        \n\n\n	Schrijf je hieronder in	\n\n	\n\n				\n				\n\n		\n		\n			\n			\n	\n		\n\n	Voornaam*\n	\n						\n									\n\n\n\n	Achternaam*\n	\n						\n									\n\n\n\n	E-mail*\n	\n						\n									\n\n\n\n	Geef aan of je via een cursist komt of buiten M&I. Op deze manier krijgen we inzicht in nieuwe aanmeldingen.*\n	\n					\n				Via een cursist\n			\n						\n				Buiten M&I\n			\n								\n\n\n\n	Wat is 3 + 3*\n	\n						\n									\n\n	\n		\n\n				\n			Address\n			\n				\n				Vul dit veld niet in om te bewijzen dat je geen robot bent
URL:https://mensenintuitie.nl/agenda/gastenles-groep-d/
LOCATION:M&I Hoevelaken\, Hogebrinkerweg 10\, Hoevelaken\, 3871 KN
CATEGORIES:Gastenles
END:VEVENT
BEGIN:VEVENT
DTSTART;TZID=Europe/Amsterdam:20250419T090000
DTEND;TZID=Europe/Amsterdam:20250419T170000
DTSTAMP:20260425T200823
CREATED:20250223T150103Z
LAST-MODIFIED:20250223T165411Z
UID:9485-1745053200-1745082000@mensenintuitie.nl
SUMMARY:Reading groep d\, dag 4
DESCRIPTION:
URL:https://mensenintuitie.nl/agenda/reading-groep-d-dag-4/
LOCATION:M&I Hoevelaken\, Hogebrinkerweg 10\, Hoevelaken\, 3871 KN
CATEGORIES:Reading
ORGANIZER;CN="M&I":MAILTO:info@mensenintuitie.nl
END:VEVENT
BEGIN:VEVENT
DTSTART;TZID=Europe/Amsterdam:20250418T090000
DTEND;TZID=Europe/Amsterdam:20250418T170000
DTSTAMP:20260425T200823
CREATED:20250223T145849Z
LAST-MODIFIED:20250223T165335Z
UID:9482-1744966800-1744995600@mensenintuitie.nl
SUMMARY:Reading groep d\, dag 3
DESCRIPTION:
URL:https://mensenintuitie.nl/agenda/reading-groep-d-dag-2/
LOCATION:M&I Hoevelaken\, Hogebrinkerweg 10\, Hoevelaken\, 3871 KN
CATEGORIES:Reading
ORGANIZER;CN="M&I":MAILTO:info@mensenintuitie.nl
END:VEVENT
BEGIN:VEVENT
DTSTART;TZID=Europe/Amsterdam:20250329T090000
DTEND;TZID=Europe/Amsterdam:20250329T170000
DTSTAMP:20260425T200823
CREATED:20250223T155334Z
LAST-MODIFIED:20250223T155334Z
UID:9530-1743238800-1743267600@mensenintuitie.nl
SUMMARY:Reading groep D\, dag 2
DESCRIPTION:
URL:https://mensenintuitie.nl/agenda/reading-groep-d-dag-2-2/
LOCATION:M&I Hoevelaken\, Hogebrinkerweg 10\, Hoevelaken\, 3871 KN
CATEGORIES:Reading
ORGANIZER;CN="M&I":MAILTO:info@mensenintuitie.nl
END:VEVENT
BEGIN:VEVENT
DTSTART;TZID=Europe/Amsterdam:20250308T090000
DTEND;TZID=Europe/Amsterdam:20250308T170000
DTSTAMP:20260425T200823
CREATED:20241001T071754Z
LAST-MODIFIED:20250223T155240Z
UID:6350-1741424400-1741453200@mensenintuitie.nl
SUMMARY:Reading groep D\, dag 1
DESCRIPTION:
URL:https://mensenintuitie.nl/agenda/reading-2025-zaterdag-dag-1/
LOCATION:M&I Hoevelaken\, Hogebrinkerweg 10\, Hoevelaken\, 3871 KN
CATEGORIES:Reading
ORGANIZER;CN="M&I":MAILTO:info@mensenintuitie.nl
END:VEVENT
BEGIN:VEVENT
DTSTART;TZID=Europe/Amsterdam:20250209T090000
DTEND;TZID=Europe/Amsterdam:20250209T170000
DTSTAMP:20260425T200823
CREATED:20241001T071754Z
LAST-MODIFIED:20241001T073741Z
UID:6351-1739091600-1739120400@mensenintuitie.nl
SUMMARY:Reading 2025-zondag- Dag 2
DESCRIPTION:
URL:https://mensenintuitie.nl/agenda/reading-2025-zondag-dag-2/
LOCATION:M&I Hoevelaken\, Hogebrinkerweg 10\, Hoevelaken\, 3871 KN
CATEGORIES:Reading
ORGANIZER;CN="M&I":MAILTO:info@mensenintuitie.nl
END:VEVENT
END:VCALENDAR