BEGIN:VCALENDAR
VERSION:2.0
PRODID:-//Mens &amp; Intuïtie - ECPv6.15.17.1//NONSGML v1.0//EN
CALSCALE:GREGORIAN
METHOD:PUBLISH
X-ORIGINAL-URL:https://mensenintuitie.nl
X-WR-CALDESC:Evenementen voor Mens &amp; Intuïtie
REFRESH-INTERVAL;VALUE=DURATION:PT1H
X-Robots-Tag:noindex
X-PUBLISHED-TTL:PT1H
BEGIN:VTIMEZONE
TZID:Europe/Amsterdam
BEGIN:DAYLIGHT
TZOFFSETFROM:+0100
TZOFFSETTO:+0200
TZNAME:CEST
DTSTART:20250330T010000
END:DAYLIGHT
BEGIN:STANDARD
TZOFFSETFROM:+0200
TZOFFSETTO:+0100
TZNAME:CET
DTSTART:20251026T010000
END:STANDARD
BEGIN:DAYLIGHT
TZOFFSETFROM:+0100
TZOFFSETTO:+0200
TZNAME:CEST
DTSTART:20260329T010000
END:DAYLIGHT
BEGIN:STANDARD
TZOFFSETFROM:+0200
TZOFFSETTO:+0100
TZNAME:CET
DTSTART:20261025T010000
END:STANDARD
BEGIN:DAYLIGHT
TZOFFSETFROM:+0100
TZOFFSETTO:+0200
TZNAME:CEST
DTSTART:20270328T010000
END:DAYLIGHT
BEGIN:STANDARD
TZOFFSETFROM:+0200
TZOFFSETTO:+0100
TZNAME:CET
DTSTART:20271031T010000
END:STANDARD
END:VTIMEZONE
BEGIN:VEVENT
DTSTART;TZID=Europe/Amsterdam:20260613T090000
DTEND;TZID=Europe/Amsterdam:20260613T170000
DTSTAMP:20260426T051148
CREATED:20250705T095951Z
LAST-MODIFIED:20250705T095951Z
UID:10398-1781341200-1781370000@mensenintuitie.nl
SUMMARY:Reading groep C\, dag 7
DESCRIPTION:
URL:https://mensenintuitie.nl/agenda/reading-groep-c-dag-7/
LOCATION:M&I Hoevelaken\, Hogebrinkerweg 10\, Hoevelaken\, 3871 KN
CATEGORIES:Reading
END:VEVENT
BEGIN:VEVENT
DTSTART;TZID=Europe/Amsterdam:20260613T090000
DTEND;TZID=Europe/Amsterdam:20260613T170000
DTSTAMP:20260426T051148
CREATED:20251023T092830Z
LAST-MODIFIED:20251023T092831Z
UID:10850-1781341200-1781370000@mensenintuitie.nl
SUMMARY:integratielessen 3 groep G dag 3
DESCRIPTION:
URL:https://mensenintuitie.nl/agenda/integratielessen-3-groep-g-dag-3-2/
CATEGORIES:Integratieles
END:VEVENT
BEGIN:VEVENT
DTSTART;TZID=Europe/Amsterdam:20260613T103000
DTEND;TZID=Europe/Amsterdam:20260613T120000
DTSTAMP:20260426T051148
CREATED:20251023T100031Z
LAST-MODIFIED:20251023T100032Z
UID:10861-1781346600-1781352000@mensenintuitie.nl
SUMMARY:Gastenles Reading groep  C
DESCRIPTION:Je bent van harte welkom bij onze gastenles! Zorg ervoor dat je een kwartier van tevoren op de locatie bent. Je wordt opgehaald en krijgt een korte uitleg over wat je kunt verwachten. De les duurt in totaal ongeveer anderhalf uur. Als je wilt meedoen\, kun je je gratis inschrijven via de link bij het evenement. We kijken ernaar uit je te verwelkomen! \n\n\n\n	\n	\n	Plekken beschikbaar: 30\n	\n    \n\n	    \n    \n        Registraties zijn gesloten voor dit evenement
URL:https://mensenintuitie.nl/agenda/gastenles-reading-groep-c-4/
LOCATION:M&I Hoevelaken\, Hogebrinkerweg 10\, Hoevelaken\, 3871 KN
CATEGORIES:Gastenles,Reading
END:VEVENT
BEGIN:VEVENT
DTSTART;TZID=Europe/Amsterdam:20260614T090000
DTEND;TZID=Europe/Amsterdam:20260614T170000
DTSTAMP:20260426T051148
CREATED:20250705T100013Z
LAST-MODIFIED:20250705T100013Z
UID:10397-1781427600-1781456400@mensenintuitie.nl
SUMMARY:Reading groep C\, dag 8
DESCRIPTION:
URL:https://mensenintuitie.nl/agenda/reading-groep-c-dag-8/
LOCATION:M&I Hoevelaken\, Hogebrinkerweg 10\, Hoevelaken\, 3871 KN
CATEGORIES:Reading
END:VEVENT
BEGIN:VEVENT
DTSTART;TZID=Europe/Amsterdam:20260614T103000
DTEND;TZID=Europe/Amsterdam:20260614T120000
DTSTAMP:20260426T051148
CREATED:20251023T100113Z
LAST-MODIFIED:20251023T100113Z
UID:10860-1781433000-1781438400@mensenintuitie.nl
SUMMARY:Gastenles Reading groep  C
DESCRIPTION:Je bent van harte welkom bij onze gastenles! Zorg ervoor dat je een kwartier van tevoren op de locatie bent. Je wordt opgehaald en krijgt een korte uitleg over wat je kunt verwachten. De les duurt in totaal ongeveer anderhalf uur. Als je wilt meedoen\, kun je je gratis inschrijven via de link bij het evenement. We kijken ernaar uit je te verwelkomen! \n\n\n\n	\n	\n	Plekken beschikbaar: 30\n	\n    \n\n	    \n    \n        Registraties zijn gesloten voor dit evenement
URL:https://mensenintuitie.nl/agenda/gastenles-reading-groep-c-5/
LOCATION:M&I Hoevelaken\, Hogebrinkerweg 10\, Hoevelaken\, 3871 KN
CATEGORIES:Gastenles,Reading
END:VEVENT
BEGIN:VEVENT
DTSTART;TZID=Europe/Amsterdam:20260624T190000
DTEND;TZID=Europe/Amsterdam:20260624T213000
DTSTAMP:20260426T051148
CREATED:20250705T085358Z
LAST-MODIFIED:20250705T085358Z
UID:10319-1782327600-1782336600@mensenintuitie.nl
SUMMARY:Praktijkavond voor (oud-)cursisten
DESCRIPTION:Plekken beschikbaar: 30\n	\n    \n\n	    \n    \n        Registraties zijn gesloten voor dit evenement
URL:https://mensenintuitie.nl/agenda/praktijkavond-voor-oud-cursisten-49/
LOCATION:M&I Hoevelaken\, Hogebrinkerweg 10\, Hoevelaken\, 3871 KN
CATEGORIES:Praktijkavond
ORGANIZER;CN="M&I":MAILTO:info@mensenintuitie.nl
END:VEVENT
BEGIN:VEVENT
DTSTART;TZID=Europe/Amsterdam:20260627T090000
DTEND;TZID=Europe/Amsterdam:20260627T170000
DTSTAMP:20260426T051148
CREATED:20250222T140022Z
LAST-MODIFIED:20250705T104332Z
UID:9430-1782550800-1782579600@mensenintuitie.nl
SUMMARY:integratielessen 3 groep G dag 4
DESCRIPTION:
URL:https://mensenintuitie.nl/agenda/integratielessen-3-groep-g-dag-4/
CATEGORIES:Integratieles
END:VEVENT
BEGIN:VEVENT
DTSTART;TZID=Europe/Amsterdam:20260627T090000
DTEND;TZID=Europe/Amsterdam:20260627T170000
DTSTAMP:20260426T051148
CREATED:20250705T102808Z
LAST-MODIFIED:20250705T102809Z
UID:10421-1782550800-1782579600@mensenintuitie.nl
SUMMARY:Lightworker groep D\, dag 13
DESCRIPTION:
URL:https://mensenintuitie.nl/agenda/lightworker-groep-d-dag-13/
LOCATION:M&I Hoevelaken\, Hogebrinkerweg 10\, Hoevelaken\, 3871 KN
CATEGORIES:Lightworker
ORGANIZER;CN="M&I":MAILTO:info@mensenintuitie.nl
END:VEVENT
BEGIN:VEVENT
DTSTART;TZID=Europe/Amsterdam:20260628T090000
DTEND;TZID=Europe/Amsterdam:20260628T170000
DTSTAMP:20260426T051148
CREATED:20250705T102831Z
LAST-MODIFIED:20250705T102831Z
UID:10420-1782637200-1782666000@mensenintuitie.nl
SUMMARY:Lightworker groep D\, dag 14
DESCRIPTION:
URL:https://mensenintuitie.nl/agenda/lightworker-groep-d-dag-14/
LOCATION:M&I Hoevelaken\, Hogebrinkerweg 10\, Hoevelaken\, 3871 KN
CATEGORIES:Lightworker
ORGANIZER;CN="M&I":MAILTO:info@mensenintuitie.nl
END:VEVENT
BEGIN:VEVENT
DTSTART;TZID=Europe/Amsterdam:20260628T103000
DTEND;TZID=Europe/Amsterdam:20260628T120000
DTSTAMP:20260426T051148
CREATED:20250920T113631Z
LAST-MODIFIED:20250920T113631Z
UID:10709-1782642600-1782648000@mensenintuitie.nl
SUMMARY:Gastenles Lightworker Groep D
DESCRIPTION:Je bent van harte welkom bij onze gastenles! Zorg ervoor dat je een kwartier van tevoren op de locatie bent. Je wordt opgehaald en krijgt een korte uitleg over wat je kunt verwachten. De les duurt in totaal ongeveer anderhalf uur. Als je wilt meedoen\, kun je je gratis inschrijven via de link bij het evenement. We kijken ernaar uit je te verwelkomen! \n\n\n	\n	\n	Plekken beschikbaar: 30\n	\n    \n\n	    \n    \n        Registraties zijn gesloten voor dit evenement
URL:https://mensenintuitie.nl/agenda/gastenles-lightworker-groep-d-7/
LOCATION:M&I Hoevelaken\, Hogebrinkerweg 10\, Hoevelaken\, 3871 KN
CATEGORIES:Gastenles,Lightworker
ORGANIZER;CN="M&I":MAILTO:info@mensenintuitie.nl
END:VEVENT
BEGIN:VEVENT
DTSTART;TZID=Europe/Amsterdam:20260708T190000
DTEND;TZID=Europe/Amsterdam:20260708T213000
DTSTAMP:20260426T051148
CREATED:20250705T085423Z
LAST-MODIFIED:20250705T085424Z
UID:10318-1783537200-1783546200@mensenintuitie.nl
SUMMARY:Praktijkavond voor (oud-)cursisten
DESCRIPTION:Plekken beschikbaar: 30\n	\n    \n\n	    \n    \n        Registraties zijn gesloten voor dit evenement
URL:https://mensenintuitie.nl/agenda/praktijkavond-voor-oud-cursisten-50/
LOCATION:M&I Hoevelaken\, Hogebrinkerweg 10\, Hoevelaken\, 3871 KN
CATEGORIES:Praktijkavond
ORGANIZER;CN="M&I":MAILTO:info@mensenintuitie.nl
END:VEVENT
BEGIN:VEVENT
DTSTART;TZID=Europe/Amsterdam:20260711T090000
DTEND;TZID=Europe/Amsterdam:20260711T170000
DTSTAMP:20260426T051148
CREATED:20250705T100038Z
LAST-MODIFIED:20250705T100038Z
UID:10396-1783760400-1783789200@mensenintuitie.nl
SUMMARY:Reading groep C\, dag 9
DESCRIPTION:
URL:https://mensenintuitie.nl/agenda/reading-groep-c-dag-9/
LOCATION:M&I Hoevelaken\, Hogebrinkerweg 10\, Hoevelaken\, 3871 KN
CATEGORIES:Reading
END:VEVENT
BEGIN:VEVENT
DTSTART;TZID=Europe/Amsterdam:20260711T103000
DTEND;TZID=Europe/Amsterdam:20260711T120000
DTSTAMP:20260426T051148
CREATED:20251023T095956Z
LAST-MODIFIED:20260114T103007Z
UID:10862-1783765800-1783771200@mensenintuitie.nl
SUMMARY:Gastenles Reading groep  C
DESCRIPTION:Je bent van harte welkom bij onze gastenles! Zorg ervoor dat je een kwartier van tevoren op de locatie bent. Je wordt opgehaald en krijgt een korte uitleg over wat je kunt verwachten. De les duurt in totaal ongeveer anderhalf uur. Als je wilt meedoen\, kun je je gratis inschrijven via de link bij het evenement. We kijken ernaar uit je te verwelkomen! \n\n\n\n	\n	\n	Plekken beschikbaar: 30\n	\n    \n\n	    \n    \n        Registraties zijn gesloten voor dit evenement
URL:https://mensenintuitie.nl/agenda/gastenles-reading-groep-c-3/
LOCATION:M&I Hoevelaken\, Hogebrinkerweg 10\, Hoevelaken\, 3871 KN
CATEGORIES:Gastenles,Reading
END:VEVENT
BEGIN:VEVENT
DTSTART;TZID=Europe/Amsterdam:20260712T090000
DTEND;TZID=Europe/Amsterdam:20260712T170000
DTSTAMP:20260426T051148
CREATED:20250705T102901Z
LAST-MODIFIED:20250705T102901Z
UID:10419-1783846800-1783875600@mensenintuitie.nl
SUMMARY:Lightworker groep D\, dag 15
DESCRIPTION:
URL:https://mensenintuitie.nl/agenda/lightworker-groep-d-dag-15/
LOCATION:M&I Hoevelaken\, Hogebrinkerweg 10\, Hoevelaken\, 3871 KN
CATEGORIES:Lightworker
ORGANIZER;CN="M&I":MAILTO:info@mensenintuitie.nl
END:VEVENT
BEGIN:VEVENT
DTSTART;TZID=Europe/Amsterdam:20260912T090000
DTEND;TZID=Europe/Amsterdam:20260912T170000
DTSTAMP:20260426T051148
CREATED:20250705T100102Z
LAST-MODIFIED:20250705T100103Z
UID:10395-1789203600-1789232400@mensenintuitie.nl
SUMMARY:Reading groep C\, dag 10
DESCRIPTION:
URL:https://mensenintuitie.nl/agenda/reading-groep-c-dag-10/
LOCATION:M&I Hoevelaken\, Hogebrinkerweg 10\, Hoevelaken\, 3871 KN
CATEGORIES:Reading
END:VEVENT
BEGIN:VEVENT
DTSTART;TZID=Europe/Amsterdam:20260913T090000
DTEND;TZID=Europe/Amsterdam:20260913T170000
DTSTAMP:20260426T051148
CREATED:20250705T100124Z
LAST-MODIFIED:20250705T100125Z
UID:10394-1789290000-1789318800@mensenintuitie.nl
SUMMARY:Reading groep C\, dag 11
DESCRIPTION:
URL:https://mensenintuitie.nl/agenda/reading-groep-c-dag-11/
LOCATION:M&I Hoevelaken\, Hogebrinkerweg 10\, Hoevelaken\, 3871 KN
CATEGORIES:Reading
END:VEVENT
BEGIN:VEVENT
DTSTART;TZID=Europe/Amsterdam:20260913T103000
DTEND;TZID=Europe/Amsterdam:20260913T120000
DTSTAMP:20260426T051148
CREATED:20251023T100224Z
LAST-MODIFIED:20251023T100225Z
UID:10858-1789295400-1789300800@mensenintuitie.nl
SUMMARY:Gastenles Reading groep  C
DESCRIPTION:Je bent van harte welkom bij onze gastenles! Zorg ervoor dat je een kwartier van tevoren op de locatie bent. Je wordt opgehaald en krijgt een korte uitleg over wat je kunt verwachten. De les duurt in totaal ongeveer anderhalf uur. Als je wilt meedoen\, kun je je gratis inschrijven via de link bij het evenement. We kijken ernaar uit je te verwelkomen! \n\n\n\n	\n	\n	Plekken beschikbaar: 30\n	\n    \n\n	    \n    \n        Registraties zijn gesloten voor dit evenement
URL:https://mensenintuitie.nl/agenda/gastenles-reading-groep-c-7/
LOCATION:M&I Hoevelaken\, Hogebrinkerweg 10\, Hoevelaken\, 3871 KN
CATEGORIES:Gastenles,Reading
END:VEVENT
BEGIN:VEVENT
DTSTART;TZID=Europe/Amsterdam:20260920T103000
DTEND;TZID=Europe/Amsterdam:20260920T120000
DTSTAMP:20260426T051148
CREATED:20260317T144631Z
LAST-MODIFIED:20260317T144632Z
UID:11245-1789900200-1789905600@mensenintuitie.nl
SUMMARY:Gastenles Lightworker Groep D
DESCRIPTION:Je bent van harte welkom bij onze gastenles! Zorg ervoor dat je een kwartier van tevoren op de locatie bent. Je wordt opgehaald en krijgt een korte uitleg over wat je kunt verwachten. De les duurt in totaal ongeveer anderhalf uur. Als je wilt meedoen\, kun je je gratis inschrijven via de link bij het evenement. We kijken ernaar uit je te verwelkomen! \n\n\n	\n	\n	Plekken beschikbaar: 30\n	\n    \n\n	    \n    \n        Registraties zijn gesloten voor dit evenement
URL:https://mensenintuitie.nl/agenda/gastenles-lightworker-groep-d-10/
LOCATION:M&I Hoevelaken\, Hogebrinkerweg 10\, Hoevelaken\, 3871 KN
CATEGORIES:Gastenles,Lightworker
ORGANIZER;CN="M&I":MAILTO:info@mensenintuitie.nl
END:VEVENT
BEGIN:VEVENT
DTSTART;TZID=Europe/Amsterdam:20261010T090000
DTEND;TZID=Europe/Amsterdam:20261010T170000
DTSTAMP:20260426T051148
CREATED:20250705T100146Z
LAST-MODIFIED:20250705T100146Z
UID:10393-1791622800-1791651600@mensenintuitie.nl
SUMMARY:Reading groep C\, dag 12
DESCRIPTION:
URL:https://mensenintuitie.nl/agenda/reading-groep-c-dag-12/
LOCATION:M&I Hoevelaken\, Hogebrinkerweg 10\, Hoevelaken\, 3871 KN
CATEGORIES:Reading
END:VEVENT
BEGIN:VEVENT
DTSTART;TZID=Europe/Amsterdam:20261010T103000
DTEND;TZID=Europe/Amsterdam:20261010T120000
DTSTAMP:20260426T051148
CREATED:20251023T100147Z
LAST-MODIFIED:20260114T103056Z
UID:10859-1791628200-1791633600@mensenintuitie.nl
SUMMARY:Gastenles Reading groep  C
DESCRIPTION:Je bent van harte welkom bij onze gastenles! Zorg ervoor dat je een kwartier van tevoren op de locatie bent. Je wordt opgehaald en krijgt een korte uitleg over wat je kunt verwachten. De les duurt in totaal ongeveer anderhalf uur. Als je wilt meedoen\, kun je je gratis inschrijven via de link bij het evenement. We kijken ernaar uit je te verwelkomen! \n\n\n\n	\n	\n	Plekken beschikbaar: 30\n	\n    \n\n	    \n    \n        Registraties zijn gesloten voor dit evenement
URL:https://mensenintuitie.nl/agenda/gastenles-reading-groep-c-6/
LOCATION:M&I Hoevelaken\, Hogebrinkerweg 10\, Hoevelaken\, 3871 KN
CATEGORIES:Gastenles,Reading
END:VEVENT
BEGIN:VEVENT
DTSTART;TZID=Europe/Amsterdam:20261011T090000
DTEND;TZID=Europe/Amsterdam:20261011T170000
DTSTAMP:20260426T051148
CREATED:20250705T100210Z
LAST-MODIFIED:20250705T100211Z
UID:10392-1791709200-1791738000@mensenintuitie.nl
SUMMARY:Reading groep C\, dag 13
DESCRIPTION:
URL:https://mensenintuitie.nl/agenda/reading-groep-c-dag-13/
LOCATION:M&I Hoevelaken\, Hogebrinkerweg 10\, Hoevelaken\, 3871 KN
CATEGORIES:Reading
END:VEVENT
BEGIN:VEVENT
DTSTART;TZID=Europe/Amsterdam:20261031T090000
DTEND;TZID=Europe/Amsterdam:20261031T170000
DTSTAMP:20260426T051148
CREATED:20250705T100237Z
LAST-MODIFIED:20250705T100238Z
UID:10391-1793437200-1793466000@mensenintuitie.nl
SUMMARY:Reading groep C\, dag 14
DESCRIPTION:
URL:https://mensenintuitie.nl/agenda/reading-groep-c-dag-14/
LOCATION:M&I Hoevelaken\, Hogebrinkerweg 10\, Hoevelaken\, 3871 KN
CATEGORIES:Reading
END:VEVENT
END:VCALENDAR