BEGIN:VCALENDAR
VERSION:2.0
PRODID:-//Mens &amp; Intuïtie - ECPv6.15.17.1//NONSGML v1.0//EN
CALSCALE:GREGORIAN
METHOD:PUBLISH
X-ORIGINAL-URL:https://mensenintuitie.nl
X-WR-CALDESC:Evenementen voor Mens &amp; Intuïtie
REFRESH-INTERVAL;VALUE=DURATION:PT1H
X-Robots-Tag:noindex
X-PUBLISHED-TTL:PT1H
BEGIN:VTIMEZONE
TZID:Europe/Amsterdam
BEGIN:DAYLIGHT
TZOFFSETFROM:+0100
TZOFFSETTO:+0200
TZNAME:CEST
DTSTART:20250330T010000
END:DAYLIGHT
BEGIN:STANDARD
TZOFFSETFROM:+0200
TZOFFSETTO:+0100
TZNAME:CET
DTSTART:20251026T010000
END:STANDARD
BEGIN:DAYLIGHT
TZOFFSETFROM:+0100
TZOFFSETTO:+0200
TZNAME:CEST
DTSTART:20260329T010000
END:DAYLIGHT
BEGIN:STANDARD
TZOFFSETFROM:+0200
TZOFFSETTO:+0100
TZNAME:CET
DTSTART:20261025T010000
END:STANDARD
BEGIN:DAYLIGHT
TZOFFSETFROM:+0100
TZOFFSETTO:+0200
TZNAME:CEST
DTSTART:20270328T010000
END:DAYLIGHT
BEGIN:STANDARD
TZOFFSETFROM:+0200
TZOFFSETTO:+0100
TZNAME:CET
DTSTART:20271031T010000
END:STANDARD
END:VTIMEZONE
BEGIN:VEVENT
DTSTART;TZID=Europe/Amsterdam:20260321T103000
DTEND;TZID=Europe/Amsterdam:20260321T120000
DTSTAMP:20260425T235406
CREATED:20250920T111351Z
LAST-MODIFIED:20251023T093725Z
UID:10686-1774089000-1774094400@mensenintuitie.nl
SUMMARY:Gastenles Reading groep  E
DESCRIPTION:Je bent van harte welkom bij onze gastenles! Zorg ervoor dat je een kwartier van tevoren op de locatie bent. Je wordt opgehaald en krijgt een korte uitleg over wat je kunt verwachten. De les duurt in totaal ongeveer anderhalf uur. Als je wilt meedoen\, kun je je gratis inschrijven via de link bij het evenement. We kijken ernaar uit je te verwelkomen! \n\n\n\n	\n	\n	Plekken beschikbaar: 30\n	\n    \n\n	    \n    \n        Registraties zijn gesloten voor dit evenement
URL:https://mensenintuitie.nl/agenda/gastenles-reading-groep-e-8/
LOCATION:M&I Hoevelaken\, Hogebrinkerweg 10\, Hoevelaken\, 3871 KN
CATEGORIES:Gastenles
END:VEVENT
BEGIN:VEVENT
DTSTART;TZID=Europe/Amsterdam:20260321T103000
DTEND;TZID=Europe/Amsterdam:20260321T120000
DTSTAMP:20260425T235406
CREATED:20250920T113125Z
LAST-MODIFIED:20260114T093753Z
UID:10699-1774089000-1774094400@mensenintuitie.nl
SUMMARY:Gastenles Lightworker Groep D
DESCRIPTION:Je bent van harte welkom bij onze gastenles! Zorg ervoor dat je een kwartier van tevoren op de locatie bent. Je wordt opgehaald en krijgt een korte uitleg over wat je kunt verwachten. De les duurt in totaal ongeveer anderhalf uur. Als je wilt meedoen\, kun je je gratis inschrijven via de link bij het evenement. We kijken ernaar uit je te verwelkomen! \n\n\n	\n	\n	Plekken beschikbaar: 30\n	\n    \n\n	    \n    \n        Registraties zijn gesloten voor dit evenement
URL:https://mensenintuitie.nl/agenda/gastenles-lightworker-groep-d-2/
LOCATION:M&I Hoevelaken\, Hogebrinkerweg 10\, Hoevelaken\, 3871 KN
CATEGORIES:Gastenles,Lightworker
ORGANIZER;CN="M&I":MAILTO:info@mensenintuitie.nl
END:VEVENT
BEGIN:VEVENT
DTSTART;TZID=Europe/Amsterdam:20260322T090000
DTEND;TZID=Europe/Amsterdam:20260322T170000
DTSTAMP:20260425T235406
CREATED:20250705T102607Z
LAST-MODIFIED:20250705T102608Z
UID:10426-1774170000-1774198800@mensenintuitie.nl
SUMMARY:Lightworker groep D\, dag 8
DESCRIPTION:
URL:https://mensenintuitie.nl/agenda/lightworker-groep-d-dag-8/
LOCATION:M&I Hoevelaken\, Hogebrinkerweg 10\, Hoevelaken\, 3871 KN
CATEGORIES:Lightworker
ORGANIZER;CN="M&I":MAILTO:info@mensenintuitie.nl
END:VEVENT
BEGIN:VEVENT
DTSTART;TZID=Europe/Amsterdam:20260322T090000
DTEND;TZID=Europe/Amsterdam:20260322T170000
DTSTAMP:20260425T235406
CREATED:20250705T103820Z
LAST-MODIFIED:20250705T103821Z
UID:10455-1774170000-1774198800@mensenintuitie.nl
SUMMARY:Reading groep E\, dag 14
DESCRIPTION:
URL:https://mensenintuitie.nl/agenda/reading-groep-e-dag-14/
LOCATION:M&I Hoevelaken\, Hogebrinkerweg 10\, Hoevelaken\, 3871 KN
CATEGORIES:Reading
END:VEVENT
BEGIN:VEVENT
DTSTART;TZID=Europe/Amsterdam:20260325T190000
DTEND;TZID=Europe/Amsterdam:20260325T213000
DTSTAMP:20260425T235406
CREATED:20250705T085144Z
LAST-MODIFIED:20250705T085144Z
UID:10325-1774465200-1774474200@mensenintuitie.nl
SUMMARY:Praktijkavond voor (oud-)cursisten
DESCRIPTION:Plekken beschikbaar: 30\n	\n    \n\n	    \n    \n        Registraties zijn gesloten voor dit evenement
URL:https://mensenintuitie.nl/agenda/praktijkavond-voor-oud-cursisten-43/
LOCATION:M&I Hoevelaken\, Hogebrinkerweg 10\, Hoevelaken\, 3871 KN
CATEGORIES:Praktijkavond
ORGANIZER;CN="M&I":MAILTO:info@mensenintuitie.nl
END:VEVENT
BEGIN:VEVENT
DTSTART;TZID=Europe/Amsterdam:20260327T093000
DTEND;TZID=Europe/Amsterdam:20260327T173000
DTSTAMP:20260425T235406
CREATED:20260113T150911Z
LAST-MODIFIED:20260113T151602Z
UID:11015-1774603800-1774632600@mensenintuitie.nl
SUMMARY:Intuïtieve Ontwikkeling blok 1\, groep O\, dag 3
DESCRIPTION:
URL:https://mensenintuitie.nl/agenda/intuitieve-ontwikkeling-groep-o-dag-3/
CATEGORIES:Intuïtieve Ontwikkeling
END:VEVENT
BEGIN:VEVENT
DTSTART;TZID=Europe/Amsterdam:20260328T090000
DTEND;TZID=Europe/Amsterdam:20260328T170000
DTSTAMP:20260425T235406
CREATED:20250222T140008Z
LAST-MODIFIED:20251023T092459Z
UID:9427-1774688400-1774717200@mensenintuitie.nl
SUMMARY:integratielessen 2 groep G dag 3
DESCRIPTION:
URL:https://mensenintuitie.nl/agenda/integratielessen-3-groep-g-dag-1/
CATEGORIES:Integratieles
END:VEVENT
BEGIN:VEVENT
DTSTART;TZID=Europe/Amsterdam:20260408T190000
DTEND;TZID=Europe/Amsterdam:20260408T213000
DTSTAMP:20260425T235406
CREATED:20250705T085205Z
LAST-MODIFIED:20260408T155955Z
UID:10324-1775674800-1775683800@mensenintuitie.nl
SUMMARY:Praktijkavond voor (oud-)cursisten
DESCRIPTION:Plekken beschikbaar: 30\n	\n    \n\n	    \n    \n        Registraties zijn gesloten voor dit evenement
URL:https://mensenintuitie.nl/agenda/praktijkavond-voor-oud-cursisten-44/
LOCATION:M&I Hoevelaken\, Hogebrinkerweg 10\, Hoevelaken\, 3871 KN
CATEGORIES:Praktijkavond
ORGANIZER;CN="M&I":MAILTO:info@mensenintuitie.nl
END:VEVENT
BEGIN:VEVENT
DTSTART;TZID=Europe/Amsterdam:20260410T090000
DTEND;TZID=Europe/Amsterdam:20260410T170000
DTSTAMP:20260425T235406
CREATED:20250705T102628Z
LAST-MODIFIED:20250705T102629Z
UID:10425-1775811600-1775840400@mensenintuitie.nl
SUMMARY:Lightworker groep D\, dag 9
DESCRIPTION:
URL:https://mensenintuitie.nl/agenda/lightworker-groep-d-dag-9/
LOCATION:M&I Hoevelaken\, Hogebrinkerweg 10\, Hoevelaken\, 3871 KN
CATEGORIES:Lightworker
ORGANIZER;CN="M&I":MAILTO:info@mensenintuitie.nl
END:VEVENT
BEGIN:VEVENT
DTSTART;TZID=Europe/Amsterdam:20260411T090000
DTEND;TZID=Europe/Amsterdam:20260411T170000
DTSTAMP:20260425T235406
CREATED:20250705T095830Z
LAST-MODIFIED:20250705T095830Z
UID:10402-1775898000-1775926800@mensenintuitie.nl
SUMMARY:Reading groep C\, dag 3
DESCRIPTION:
URL:https://mensenintuitie.nl/agenda/reading-groep-c-dag-3/
LOCATION:M&I Hoevelaken\, Hogebrinkerweg 10\, Hoevelaken\, 3871 KN
CATEGORIES:Reading
END:VEVENT
BEGIN:VEVENT
DTSTART;TZID=Europe/Amsterdam:20260411T090000
DTEND;TZID=Europe/Amsterdam:20260411T170000
DTSTAMP:20260425T235406
CREATED:20251023T092610Z
LAST-MODIFIED:20251023T092611Z
UID:10846-1775898000-1775926800@mensenintuitie.nl
SUMMARY:integratielessen 2 groep G dag 4
DESCRIPTION:
URL:https://mensenintuitie.nl/agenda/integratielessen-2-groep-g-dag-4-2/
CATEGORIES:Integratieles
END:VEVENT
BEGIN:VEVENT
DTSTART;TZID=Europe/Amsterdam:20260418T100000
DTEND;TZID=Europe/Amsterdam:20260418T123000
DTSTAMP:20260425T235406
CREATED:20260402T200942Z
LAST-MODIFIED:20260402T200943Z
UID:11380-1776506400-1776515400@mensenintuitie.nl
SUMMARY:Proefles Intuïtieve Ontwikkeling
DESCRIPTION:Ben jij benieuwd of intuïtieve ontwikkeling wat voor jou is? Neem vrijblijvend deel aan onze proefles\, en probeer onze lesmethode uit. Naast een algemene introductie en uitleg doen we een aantal geleide meditaties zodat je een goed beeld krijgt van onze lesmethode. Veel mensen zijn bekend met uiteenlopende vormen van meditatie\, en geleide meditatie is daar één vorm van. Hoe werkt zoiets\, hoe kun je dat toepassen in het dagelijks leven? Is het wel iets voor jou? Tijdens de proefles gaan we ondermeer in op gronden\, chakra’s\, aura\, energiebeheer en energie laten stromen.
URL:https://mensenintuitie.nl/agenda/proefles-intuitieve-ontwikkeling-2/
CATEGORIES:Proefles Intuïtieve Ontwikkeling
END:VEVENT
BEGIN:VEVENT
DTSTART;TZID=Europe/Amsterdam:20260419T100000
DTEND;TZID=Europe/Amsterdam:20260419T173000
DTSTAMP:20260425T235406
CREATED:20260409T083151Z
LAST-MODIFIED:20260409T083152Z
UID:11409-1776592800-1776619800@mensenintuitie.nl
SUMMARY:Familieopstellingendag
DESCRIPTION:Wil je meer inzicht in jouw patronen? Of wil je (dieper) ingaan op een vraag of thema? Tijdens deze eendaagse workshop onderzoeken we de onbewuste dynamieken die van invloed zijn op jouw leven. Daarna integreren we de inzichten met behulp van meditatie. \nWat is een opstelling?Een familieopstelling is een krachtige methode om inzicht te krijgen in jouw onbewuste patronen. Je kunt een familiesysteem zien als een web waarin iedereen zijn eigen plek en rol heeft. Een familieopstelling werpt licht op dit web en maakt de verborgen relaties en dynamieken zichtbaar. Het biedt een diepgaand beeld van wat er werkelijk speelt onder de oppervlakte. Daarnaast kan een familieopstelling onthullen welke patronen al generaties lang worden doorgegeven\, vaak zonder dat je je daarvan bewust bent. \nVoor wie?Een familieopstelling is voor iedereen\, je hoeft geen ervaring te hebben met familieopstellingen of meditatie. De opstelling kan gaan over verschillende aspecten van je leven\, zoals werk\, relaties\, geld\, gezondheid en levenskeuzes. \nDeze workshop is voor jou als je; \n– Meer inzicht wilt in je patronen\, gedragingen\, emoties en blokkades– Wilt doorvoelen en zien wat de onbewuste patronen zijn– (Onbewuste) patronen wilt doorbreken– Meer beweging wilt ervaren in je leven– Wilt doorzien welke patronen generaties lang zijn doorgegeven– Praktische tools wilt om toe te passen in je dagelijks leven. \nWe sluiten de dag af met een meditatie om de inzichten goed te integreren in jouw systeem en ervoor te zorgen dat je met praktische inzichten naar huis gaat. \nOver je vraagOp deze dag krijgen gemiddeld 5 tot 8 mensen een eigen opstelling en krijg je de mogelijkheid om te representeren. Er is de mogelijkheid om tot zeven dagen voor aanvang van de opstellingendag een vraag in te sturen naar info@mensenintuitie.nl. Op basis van de ingestuurde vragen kijken wij naar de mogelijke thema’s en vormen van opstellingen. Je kunt er ook voor kiezen om geen eigen vraag in te brengen en alleen mee te doen als representant. \nPraktischKosten: 130 euro\, inclusief lunch*De dag gaat door bij minimaal 8 deelnemersInloop 09:30\, start 10:00\,Het is afgelopen rond 17:00\, met mogelijke uitloop tot 17:30 \nLocatie: Hogebrinkerweg 10\, 3871 KN Hoevelaken. Gratis parkeren voor de deur. \n*Er zal een vegetarische lunch zijn\, dit is inbegrepen in het ticket. Uiteraard kun je zelf ook (aanvullende) lunch meenemen ;). Er is een magnetron aanwezig. \nGraag tot dan! \n\n\n	\n	\n	Plekken beschikbaar: 30\n	\n    \n\n	    \n    \n        Registraties zijn gesloten voor dit evenement
URL:https://mensenintuitie.nl/agenda/familieopstellingendag/
LOCATION:M&I Hoevelaken\, Hogebrinkerweg 10\, Hoevelaken\, 3871 KN
CATEGORIES:Familieopstelling
END:VEVENT
BEGIN:VEVENT
DTSTART;TZID=Europe/Amsterdam:20260422T190000
DTEND;TZID=Europe/Amsterdam:20260422T213000
DTSTAMP:20260425T235406
CREATED:20250705T085225Z
LAST-MODIFIED:20260422T150708Z
UID:10323-1776884400-1776893400@mensenintuitie.nl
SUMMARY:Praktijkavond voor (oud-)cursisten
DESCRIPTION:Plekken beschikbaar: 30\n	\n    \n\n	    \n    \n        Registraties zijn gesloten voor dit evenement
URL:https://mensenintuitie.nl/agenda/praktijkavond-voor-oud-cursisten-45/
LOCATION:M&I Hoevelaken\, Hogebrinkerweg 10\, Hoevelaken\, 3871 KN
CATEGORIES:Praktijkavond
ORGANIZER;CN="M&I":MAILTO:info@mensenintuitie.nl
END:VEVENT
BEGIN:VEVENT
DTSTART;TZID=Europe/Amsterdam:20260424T093000
DTEND;TZID=Europe/Amsterdam:20260424T173000
DTSTAMP:20260425T235406
CREATED:20260113T151042Z
LAST-MODIFIED:20260113T151534Z
UID:11017-1777023000-1777051800@mensenintuitie.nl
SUMMARY:Intuïtieve Ontwikkeling blok 1\, groep O\, dag 4
DESCRIPTION:
URL:https://mensenintuitie.nl/agenda/intuitieve-ontwikkeling-groep-o-dag-4/
CATEGORIES:Intuïtieve Ontwikkeling
END:VEVENT
BEGIN:VEVENT
DTSTART;TZID=Europe/Amsterdam:20260425T090000
DTEND;TZID=Europe/Amsterdam:20260425T170000
DTSTAMP:20260425T235406
CREATED:20250222T140022Z
LAST-MODIFIED:20251023T092701Z
UID:9428-1777107600-1777136400@mensenintuitie.nl
SUMMARY:integratielessen 3 groep G dag 1
DESCRIPTION:
URL:https://mensenintuitie.nl/agenda/integratielessen-3-groep-g-dag-2/
CATEGORIES:Integratieles
END:VEVENT
BEGIN:VEVENT
DTSTART;TZID=Europe/Amsterdam:20260513T190000
DTEND;TZID=Europe/Amsterdam:20260513T213000
DTSTAMP:20260425T235406
CREATED:20250705T085250Z
LAST-MODIFIED:20250705T085250Z
UID:10322-1778698800-1778707800@mensenintuitie.nl
SUMMARY:Praktijkavond voor (oud-)cursisten
DESCRIPTION:Plekken beschikbaar: 30\n	\n    \n\n	    \n    \n        Registraties zijn gesloten voor dit evenement
URL:https://mensenintuitie.nl/agenda/praktijkavond-voor-oud-cursisten-46/
LOCATION:M&I Hoevelaken\, Hogebrinkerweg 10\, Hoevelaken\, 3871 KN
CATEGORIES:Praktijkavond
ORGANIZER;CN="M&I":MAILTO:info@mensenintuitie.nl
END:VEVENT
BEGIN:VEVENT
DTSTART;TZID=Europe/Amsterdam:20260516T090000
DTEND;TZID=Europe/Amsterdam:20260516T170000
DTSTAMP:20260425T235406
CREATED:20250705T095912Z
LAST-MODIFIED:20250705T095912Z
UID:10400-1778922000-1778950800@mensenintuitie.nl
SUMMARY:Reading groep C\, dag 5
DESCRIPTION:
URL:https://mensenintuitie.nl/agenda/reading-groep-c-dag-5/
LOCATION:M&I Hoevelaken\, Hogebrinkerweg 10\, Hoevelaken\, 3871 KN
CATEGORIES:Reading
END:VEVENT
BEGIN:VEVENT
DTSTART;TZID=Europe/Amsterdam:20260516T090000
DTEND;TZID=Europe/Amsterdam:20260516T170000
DTSTAMP:20260425T235406
CREATED:20250705T102649Z
LAST-MODIFIED:20250705T102649Z
UID:10424-1778922000-1778950800@mensenintuitie.nl
SUMMARY:Lightworker groep D\, dag 10
DESCRIPTION:
URL:https://mensenintuitie.nl/agenda/lightworker-groep-d-dag-10/
LOCATION:M&I Hoevelaken\, Hogebrinkerweg 10\, Hoevelaken\, 3871 KN
CATEGORIES:Lightworker
ORGANIZER;CN="M&I":MAILTO:info@mensenintuitie.nl
END:VEVENT
BEGIN:VEVENT
DTSTART;TZID=Europe/Amsterdam:20260516T103000
DTEND;TZID=Europe/Amsterdam:20260516T120000
DTSTAMP:20260425T235406
CREATED:20251023T095646Z
LAST-MODIFIED:20260114T102847Z
UID:10854-1778927400-1778932800@mensenintuitie.nl
SUMMARY:Gastenles Reading groep  C
DESCRIPTION:Je bent van harte welkom bij onze gastenles! Zorg ervoor dat je een kwartier van tevoren op de locatie bent. Je wordt opgehaald en krijgt een korte uitleg over wat je kunt verwachten. De les duurt in totaal ongeveer anderhalf uur. Als je wilt meedoen\, kun je je gratis inschrijven via de link bij het evenement. We kijken ernaar uit je te verwelkomen! \n\n\n\n	\n	\n	Plekken beschikbaar: 30\n	\n    \n\n	    \n    \n        Registraties zijn gesloten voor dit evenement
URL:https://mensenintuitie.nl/agenda/gastenles-reading-groep-c/
LOCATION:M&I Hoevelaken\, Hogebrinkerweg 10\, Hoevelaken\, 3871 KN
CATEGORIES:Gastenles,Reading
END:VEVENT
BEGIN:VEVENT
DTSTART;TZID=Europe/Amsterdam:20260517T090000
DTEND;TZID=Europe/Amsterdam:20260517T170000
DTSTAMP:20260425T235406
CREATED:20250705T095931Z
LAST-MODIFIED:20250705T095932Z
UID:10399-1779008400-1779037200@mensenintuitie.nl
SUMMARY:Reading groep C\, dag 6
DESCRIPTION:
URL:https://mensenintuitie.nl/agenda/reading-groep-c-dag-6/
LOCATION:M&I Hoevelaken\, Hogebrinkerweg 10\, Hoevelaken\, 3871 KN
CATEGORIES:Reading
END:VEVENT
BEGIN:VEVENT
DTSTART;TZID=Europe/Amsterdam:20260517T100000
DTEND;TZID=Europe/Amsterdam:20260517T173000
DTSTAMP:20260425T235406
CREATED:20260126T105322Z
LAST-MODIFIED:20260202T125910Z
UID:11077-1779012000-1779039000@mensenintuitie.nl
SUMMARY:Familieopstellingendag
DESCRIPTION:Wil je meer inzicht in jouw patronen? Of wil je (dieper) ingaan op een vraag of thema? Tijdens deze eendaagse workshop onderzoeken we de onbewuste dynamieken die van invloed zijn op jouw leven. Daarna integreren we de inzichten met behulp van meditatie. \nWat is een opstelling?Een familieopstelling is een krachtige methode om inzicht te krijgen in jouw onbewuste patronen. Je kunt een familiesysteem zien als een web waarin iedereen zijn eigen plek en rol heeft. Een familieopstelling werpt licht op dit web en maakt de verborgen relaties en dynamieken zichtbaar. Het biedt een diepgaand beeld van wat er werkelijk speelt onder de oppervlakte. Daarnaast kan een familieopstelling onthullen welke patronen al generaties lang worden doorgegeven\, vaak zonder dat je je daarvan bewust bent. \nVoor wie?Een familieopstelling is voor iedereen\, je hoeft geen ervaring te hebben met familieopstellingen of meditatie. De opstelling kan gaan over verschillende aspecten van je leven\, zoals werk\, relaties\, geld\, gezondheid en levenskeuzes. \nDeze workshop is voor jou als je; \n– Meer inzicht wilt in je patronen\, gedragingen\, emoties en blokkades– Wilt doorvoelen en zien wat de onbewuste patronen zijn– (Onbewuste) patronen wilt doorbreken– Meer beweging wilt ervaren in je leven– Wilt doorzien welke patronen generaties lang zijn doorgegeven– Praktische tools wilt om toe te passen in je dagelijks leven. \nWe sluiten de dag af met een meditatie om de inzichten goed te integreren in jouw systeem en ervoor te zorgen dat je met praktische inzichten naar huis gaat. \nOver je vraagOp deze dag krijgen gemiddeld 5 tot 8 mensen een eigen opstelling en krijg je de mogelijkheid om te representeren. Er is de mogelijkheid om tot zeven dagen voor aanvang van de opstellingendag een vraag in te sturen naar info@mensenintuitie.nl. Op basis van de ingestuurde vragen kijken wij naar de mogelijke thema’s en vormen van opstellingen. Je kunt er ook voor kiezen om geen eigen vraag in te brengen en alleen mee te doen als representant. \nPraktischKosten: 130 euro\, inclusief lunch*De dag gaat door bij minimaal 8 deelnemersInloop 09:30\, start 10:00\,Het is afgelopen rond 17:00\, met mogelijke uitloop tot 17:30 \nLocatie: Hogebrinkerweg 10\, 3871 KN Hoevelaken. Gratis parkeren voor de deur. \n*Er zal een vegetarische lunch zijn\, dit is inbegrepen in het ticket. Uiteraard kun je zelf ook (aanvullende) lunch meenemen ;). Er is een magnetron aanwezig. \nGraag tot dan! \n\n\n	\n	\n	Plekken beschikbaar: 30\n	\n    \n\n	    \n    \n        Registraties zijn gesloten voor dit evenement
URL:https://mensenintuitie.nl/agenda/familieopstellingendag-marianca-rose-6/
LOCATION:M&I Hoevelaken\, Hogebrinkerweg 10\, Hoevelaken\, 3871 KN
CATEGORIES:Familieopstelling
END:VEVENT
BEGIN:VEVENT
DTSTART;TZID=Europe/Amsterdam:20260527T190000
DTEND;TZID=Europe/Amsterdam:20260527T213000
DTSTAMP:20260425T235406
CREATED:20250705T085317Z
LAST-MODIFIED:20250705T085317Z
UID:10321-1779908400-1779917400@mensenintuitie.nl
SUMMARY:Praktijkavond voor (oud-)cursisten
DESCRIPTION:Plekken beschikbaar: 30\n	\n    \n\n	    \n    \n        Registraties zijn gesloten voor dit evenement
URL:https://mensenintuitie.nl/agenda/praktijkavond-voor-oud-cursisten-47/
LOCATION:M&I Hoevelaken\, Hogebrinkerweg 10\, Hoevelaken\, 3871 KN
CATEGORIES:Praktijkavond
ORGANIZER;CN="M&I":MAILTO:info@mensenintuitie.nl
END:VEVENT
BEGIN:VEVENT
DTSTART;TZID=Europe/Amsterdam:20260530T090000
DTEND;TZID=Europe/Amsterdam:20260530T170000
DTSTAMP:20260425T235406
CREATED:20250222T140022Z
LAST-MODIFIED:20251023T092738Z
UID:9429-1780131600-1780160400@mensenintuitie.nl
SUMMARY:integratielessen 3 groep G dag 2
DESCRIPTION:
URL:https://mensenintuitie.nl/agenda/integratielessen-3-groep-g-dag-3/
CATEGORIES:Integratieles
END:VEVENT
BEGIN:VEVENT
DTSTART;TZID=Europe/Amsterdam:20260601T100000
DTEND;TZID=Europe/Amsterdam:20260603T170000
DTSTAMP:20260425T235406
CREATED:20250929T142551Z
LAST-MODIFIED:20260126T104723Z
UID:10747-1780308000-1780506000@mensenintuitie.nl
SUMMARY:3-daagse over relaties
DESCRIPTION:Verlang jij naar verbinding\, maar merk je dat oude patronen en/of angsten je in de weg staan in je (liefdes)relaties? Tijdens deze driedaagse training ontdek je jouw hechtingsstijl\, herken je triggers en doorbreek je patronen. Met oefeningen\, creatieve werkvormen en systemische opstellingen leer je stap voor stap hoe je veilige nabijheid kunt ervaren. \n\n\n\nPraktisch:Investering: 3 dagen 10:00 – 17:00 incl. lunch voor 645 euro. Data: maandag 1 juni tot en met woensdag 3 juniLocatie: Hogebrinkerweg 10\, Hoevelaken \n\n\n\n\n\n\n\n\n\n\n\n\n\n	\n	\n	Plekken beschikbaar: 30\n	\n    \n\n	    \n    \n        Registraties zijn gesloten voor dit evenement
URL:https://mensenintuitie.nl/agenda/3-daagse-training-liefdesbang/
LOCATION:M&I Hoevelaken\, Hogebrinkerweg 10\, Hoevelaken\, 3871 KN
CATEGORIES:Familieopstelling,Retraite,Trainingen
END:VEVENT
BEGIN:VEVENT
DTSTART;TZID=Europe/Amsterdam:20260606T090000
DTEND;TZID=Europe/Amsterdam:20260606T170000
DTSTAMP:20260425T235406
CREATED:20250705T102712Z
LAST-MODIFIED:20250705T102712Z
UID:10423-1780736400-1780765200@mensenintuitie.nl
SUMMARY:Lightworker groep D\, dag 11
DESCRIPTION:
URL:https://mensenintuitie.nl/agenda/lightworker-groep-d-dag-11/
LOCATION:M&I Hoevelaken\, Hogebrinkerweg 10\, Hoevelaken\, 3871 KN
CATEGORIES:Lightworker
ORGANIZER;CN="M&I":MAILTO:info@mensenintuitie.nl
END:VEVENT
BEGIN:VEVENT
DTSTART;TZID=Europe/Amsterdam:20260607T090000
DTEND;TZID=Europe/Amsterdam:20260607T170000
DTSTAMP:20260425T235406
CREATED:20250705T102732Z
LAST-MODIFIED:20250705T102732Z
UID:10422-1780822800-1780851600@mensenintuitie.nl
SUMMARY:Lightworker groep D\, dag 12
DESCRIPTION:
URL:https://mensenintuitie.nl/agenda/lightworker-groep-d-dag-12/
LOCATION:M&I Hoevelaken\, Hogebrinkerweg 10\, Hoevelaken\, 3871 KN
CATEGORIES:Lightworker
ORGANIZER;CN="M&I":MAILTO:info@mensenintuitie.nl
END:VEVENT
BEGIN:VEVENT
DTSTART;TZID=Europe/Amsterdam:20260610T190000
DTEND;TZID=Europe/Amsterdam:20260610T213000
DTSTAMP:20260425T235406
CREATED:20250705T085337Z
LAST-MODIFIED:20250705T085337Z
UID:10320-1781118000-1781127000@mensenintuitie.nl
SUMMARY:Praktijkavond voor (oud-)cursisten
DESCRIPTION:Plekken beschikbaar: 30\n	\n    \n\n	    \n    \n        Registraties zijn gesloten voor dit evenement
URL:https://mensenintuitie.nl/agenda/praktijkavond-voor-oud-cursisten-48/
LOCATION:M&I Hoevelaken\, Hogebrinkerweg 10\, Hoevelaken\, 3871 KN
CATEGORIES:Praktijkavond
ORGANIZER;CN="M&I":MAILTO:info@mensenintuitie.nl
END:VEVENT
BEGIN:VEVENT
DTSTART;TZID=Europe/Amsterdam:20260613T090000
DTEND;TZID=Europe/Amsterdam:20260613T170000
DTSTAMP:20260425T235406
CREATED:20250705T095951Z
LAST-MODIFIED:20250705T095951Z
UID:10398-1781341200-1781370000@mensenintuitie.nl
SUMMARY:Reading groep C\, dag 7
DESCRIPTION:
URL:https://mensenintuitie.nl/agenda/reading-groep-c-dag-7/
LOCATION:M&I Hoevelaken\, Hogebrinkerweg 10\, Hoevelaken\, 3871 KN
CATEGORIES:Reading
END:VEVENT
BEGIN:VEVENT
DTSTART;TZID=Europe/Amsterdam:20260613T090000
DTEND;TZID=Europe/Amsterdam:20260613T170000
DTSTAMP:20260425T235406
CREATED:20251023T092830Z
LAST-MODIFIED:20251023T092831Z
UID:10850-1781341200-1781370000@mensenintuitie.nl
SUMMARY:integratielessen 3 groep G dag 3
DESCRIPTION:
URL:https://mensenintuitie.nl/agenda/integratielessen-3-groep-g-dag-3-2/
CATEGORIES:Integratieles
END:VEVENT
END:VCALENDAR