BEGIN:VCALENDAR
VERSION:2.0
PRODID:-//Mens &amp; Intuïtie - ECPv6.15.17.1//NONSGML v1.0//EN
CALSCALE:GREGORIAN
METHOD:PUBLISH
X-ORIGINAL-URL:https://mensenintuitie.nl
X-WR-CALDESC:Evenementen voor Mens &amp; Intuïtie
REFRESH-INTERVAL;VALUE=DURATION:PT1H
X-Robots-Tag:noindex
X-PUBLISHED-TTL:PT1H
BEGIN:VTIMEZONE
TZID:Europe/Amsterdam
BEGIN:DAYLIGHT
TZOFFSETFROM:+0100
TZOFFSETTO:+0200
TZNAME:CEST
DTSTART:20250330T010000
END:DAYLIGHT
BEGIN:STANDARD
TZOFFSETFROM:+0200
TZOFFSETTO:+0100
TZNAME:CET
DTSTART:20251026T010000
END:STANDARD
BEGIN:DAYLIGHT
TZOFFSETFROM:+0100
TZOFFSETTO:+0200
TZNAME:CEST
DTSTART:20260329T010000
END:DAYLIGHT
BEGIN:STANDARD
TZOFFSETFROM:+0200
TZOFFSETTO:+0100
TZNAME:CET
DTSTART:20261025T010000
END:STANDARD
BEGIN:DAYLIGHT
TZOFFSETFROM:+0100
TZOFFSETTO:+0200
TZNAME:CEST
DTSTART:20270328T010000
END:DAYLIGHT
BEGIN:STANDARD
TZOFFSETFROM:+0200
TZOFFSETTO:+0100
TZNAME:CET
DTSTART:20271031T010000
END:STANDARD
END:VTIMEZONE
BEGIN:VEVENT
DTSTART;TZID=Europe/Amsterdam:20260516T103000
DTEND;TZID=Europe/Amsterdam:20260516T120000
DTSTAMP:20260425T160427
CREATED:20251023T095646Z
LAST-MODIFIED:20260114T102847Z
UID:10854-1778927400-1778932800@mensenintuitie.nl
SUMMARY:Gastenles Reading groep  C
DESCRIPTION:Je bent van harte welkom bij onze gastenles! Zorg ervoor dat je een kwartier van tevoren op de locatie bent. Je wordt opgehaald en krijgt een korte uitleg over wat je kunt verwachten. De les duurt in totaal ongeveer anderhalf uur. Als je wilt meedoen\, kun je je gratis inschrijven via de link bij het evenement. We kijken ernaar uit je te verwelkomen! \n\n\n\n	\n	\n	Plekken beschikbaar: 9\n	\n    \n\n	    \n    \n        Registraties zijn gesloten voor dit evenement
URL:https://mensenintuitie.nl/agenda/gastenles-reading-groep-c/
LOCATION:M&I Hoevelaken\, Hogebrinkerweg 10\, Hoevelaken\, 3871 KN
CATEGORIES:Gastenles,Reading
END:VEVENT
BEGIN:VEVENT
DTSTART;TZID=Europe/Amsterdam:20260613T103000
DTEND;TZID=Europe/Amsterdam:20260613T120000
DTSTAMP:20260425T160428
CREATED:20251023T100031Z
LAST-MODIFIED:20251023T100032Z
UID:10861-1781346600-1781352000@mensenintuitie.nl
SUMMARY:Gastenles Reading groep  C
DESCRIPTION:Je bent van harte welkom bij onze gastenles! Zorg ervoor dat je een kwartier van tevoren op de locatie bent. Je wordt opgehaald en krijgt een korte uitleg over wat je kunt verwachten. De les duurt in totaal ongeveer anderhalf uur. Als je wilt meedoen\, kun je je gratis inschrijven via de link bij het evenement. We kijken ernaar uit je te verwelkomen! \n\n\n\n	\n	\n	Plekken beschikbaar: 9\n	\n    \n\n	    \n    \n        Registraties zijn gesloten voor dit evenement
URL:https://mensenintuitie.nl/agenda/gastenles-reading-groep-c-4/
LOCATION:M&I Hoevelaken\, Hogebrinkerweg 10\, Hoevelaken\, 3871 KN
CATEGORIES:Gastenles,Reading
END:VEVENT
BEGIN:VEVENT
DTSTART;TZID=Europe/Amsterdam:20260614T103000
DTEND;TZID=Europe/Amsterdam:20260614T120000
DTSTAMP:20260425T160428
CREATED:20251023T100113Z
LAST-MODIFIED:20251023T100113Z
UID:10860-1781433000-1781438400@mensenintuitie.nl
SUMMARY:Gastenles Reading groep  C
DESCRIPTION:Je bent van harte welkom bij onze gastenles! Zorg ervoor dat je een kwartier van tevoren op de locatie bent. Je wordt opgehaald en krijgt een korte uitleg over wat je kunt verwachten. De les duurt in totaal ongeveer anderhalf uur. Als je wilt meedoen\, kun je je gratis inschrijven via de link bij het evenement. We kijken ernaar uit je te verwelkomen! \n\n\n\n	\n	\n	Plekken beschikbaar: 9\n	\n    \n\n	    \n    \n        Registraties zijn gesloten voor dit evenement
URL:https://mensenintuitie.nl/agenda/gastenles-reading-groep-c-5/
LOCATION:M&I Hoevelaken\, Hogebrinkerweg 10\, Hoevelaken\, 3871 KN
CATEGORIES:Gastenles,Reading
END:VEVENT
BEGIN:VEVENT
DTSTART;TZID=Europe/Amsterdam:20260628T103000
DTEND;TZID=Europe/Amsterdam:20260628T120000
DTSTAMP:20260425T160428
CREATED:20250920T113631Z
LAST-MODIFIED:20250920T113631Z
UID:10709-1782642600-1782648000@mensenintuitie.nl
SUMMARY:Gastenles Lightworker Groep D
DESCRIPTION:Je bent van harte welkom bij onze gastenles! Zorg ervoor dat je een kwartier van tevoren op de locatie bent. Je wordt opgehaald en krijgt een korte uitleg over wat je kunt verwachten. De les duurt in totaal ongeveer anderhalf uur. Als je wilt meedoen\, kun je je gratis inschrijven via de link bij het evenement. We kijken ernaar uit je te verwelkomen! \n\n\n	\n	\n	Plekken beschikbaar: 9\n	\n    \n\n	    \n    \n        Registraties zijn gesloten voor dit evenement
URL:https://mensenintuitie.nl/agenda/gastenles-lightworker-groep-d-7/
LOCATION:M&I Hoevelaken\, Hogebrinkerweg 10\, Hoevelaken\, 3871 KN
CATEGORIES:Gastenles,Lightworker
ORGANIZER;CN="M&I":MAILTO:info@mensenintuitie.nl
END:VEVENT
BEGIN:VEVENT
DTSTART;TZID=Europe/Amsterdam:20260711T103000
DTEND;TZID=Europe/Amsterdam:20260711T120000
DTSTAMP:20260425T160428
CREATED:20251023T095956Z
LAST-MODIFIED:20260114T103007Z
UID:10862-1783765800-1783771200@mensenintuitie.nl
SUMMARY:Gastenles Reading groep  C
DESCRIPTION:Je bent van harte welkom bij onze gastenles! Zorg ervoor dat je een kwartier van tevoren op de locatie bent. Je wordt opgehaald en krijgt een korte uitleg over wat je kunt verwachten. De les duurt in totaal ongeveer anderhalf uur. Als je wilt meedoen\, kun je je gratis inschrijven via de link bij het evenement. We kijken ernaar uit je te verwelkomen! \n\n\n\n	\n	\n	Plekken beschikbaar: 9\n	\n    \n\n	    \n    \n        Registraties zijn gesloten voor dit evenement
URL:https://mensenintuitie.nl/agenda/gastenles-reading-groep-c-3/
LOCATION:M&I Hoevelaken\, Hogebrinkerweg 10\, Hoevelaken\, 3871 KN
CATEGORIES:Gastenles,Reading
END:VEVENT
BEGIN:VEVENT
DTSTART;TZID=Europe/Amsterdam:20260913T103000
DTEND;TZID=Europe/Amsterdam:20260913T120000
DTSTAMP:20260425T160428
CREATED:20251023T100224Z
LAST-MODIFIED:20251023T100225Z
UID:10858-1789295400-1789300800@mensenintuitie.nl
SUMMARY:Gastenles Reading groep  C
DESCRIPTION:Je bent van harte welkom bij onze gastenles! Zorg ervoor dat je een kwartier van tevoren op de locatie bent. Je wordt opgehaald en krijgt een korte uitleg over wat je kunt verwachten. De les duurt in totaal ongeveer anderhalf uur. Als je wilt meedoen\, kun je je gratis inschrijven via de link bij het evenement. We kijken ernaar uit je te verwelkomen! \n\n\n\n	\n	\n	Plekken beschikbaar: 9\n	\n    \n\n	    \n    \n        Registraties zijn gesloten voor dit evenement
URL:https://mensenintuitie.nl/agenda/gastenles-reading-groep-c-7/
LOCATION:M&I Hoevelaken\, Hogebrinkerweg 10\, Hoevelaken\, 3871 KN
CATEGORIES:Gastenles,Reading
END:VEVENT
BEGIN:VEVENT
DTSTART;TZID=Europe/Amsterdam:20260920T103000
DTEND;TZID=Europe/Amsterdam:20260920T120000
DTSTAMP:20260425T160428
CREATED:20260317T144631Z
LAST-MODIFIED:20260317T144632Z
UID:11245-1789900200-1789905600@mensenintuitie.nl
SUMMARY:Gastenles Lightworker Groep D
DESCRIPTION:Je bent van harte welkom bij onze gastenles! Zorg ervoor dat je een kwartier van tevoren op de locatie bent. Je wordt opgehaald en krijgt een korte uitleg over wat je kunt verwachten. De les duurt in totaal ongeveer anderhalf uur. Als je wilt meedoen\, kun je je gratis inschrijven via de link bij het evenement. We kijken ernaar uit je te verwelkomen! \n\n\n	\n	\n	Plekken beschikbaar: 9\n	\n    \n\n	    \n    \n        Registraties zijn gesloten voor dit evenement
URL:https://mensenintuitie.nl/agenda/gastenles-lightworker-groep-d-10/
LOCATION:M&I Hoevelaken\, Hogebrinkerweg 10\, Hoevelaken\, 3871 KN
CATEGORIES:Gastenles,Lightworker
ORGANIZER;CN="M&I":MAILTO:info@mensenintuitie.nl
END:VEVENT
BEGIN:VEVENT
DTSTART;TZID=Europe/Amsterdam:20261010T103000
DTEND;TZID=Europe/Amsterdam:20261010T120000
DTSTAMP:20260425T160428
CREATED:20251023T100147Z
LAST-MODIFIED:20260114T103056Z
UID:10859-1791628200-1791633600@mensenintuitie.nl
SUMMARY:Gastenles Reading groep  C
DESCRIPTION:Je bent van harte welkom bij onze gastenles! Zorg ervoor dat je een kwartier van tevoren op de locatie bent. Je wordt opgehaald en krijgt een korte uitleg over wat je kunt verwachten. De les duurt in totaal ongeveer anderhalf uur. Als je wilt meedoen\, kun je je gratis inschrijven via de link bij het evenement. We kijken ernaar uit je te verwelkomen! \n\n\n\n	\n	\n	Plekken beschikbaar: 9\n	\n    \n\n	    \n    \n        Registraties zijn gesloten voor dit evenement
URL:https://mensenintuitie.nl/agenda/gastenles-reading-groep-c-6/
LOCATION:M&I Hoevelaken\, Hogebrinkerweg 10\, Hoevelaken\, 3871 KN
CATEGORIES:Gastenles,Reading
END:VEVENT
END:VCALENDAR