BEGIN:VCALENDAR
VERSION:2.0
PRODID:-//Mens &amp; Intuïtie - ECPv6.15.17.1//NONSGML v1.0//EN
CALSCALE:GREGORIAN
METHOD:PUBLISH
X-ORIGINAL-URL:https://mensenintuitie.nl
X-WR-CALDESC:Evenementen voor Mens &amp; Intuïtie
REFRESH-INTERVAL;VALUE=DURATION:PT1H
X-Robots-Tag:noindex
X-PUBLISHED-TTL:PT1H
BEGIN:VTIMEZONE
TZID:Europe/Amsterdam
BEGIN:DAYLIGHT
TZOFFSETFROM:+0100
TZOFFSETTO:+0200
TZNAME:CEST
DTSTART:20250330T010000
END:DAYLIGHT
BEGIN:STANDARD
TZOFFSETFROM:+0200
TZOFFSETTO:+0100
TZNAME:CET
DTSTART:20251026T010000
END:STANDARD
BEGIN:DAYLIGHT
TZOFFSETFROM:+0100
TZOFFSETTO:+0200
TZNAME:CEST
DTSTART:20260329T010000
END:DAYLIGHT
BEGIN:STANDARD
TZOFFSETFROM:+0200
TZOFFSETTO:+0100
TZNAME:CET
DTSTART:20261025T010000
END:STANDARD
BEGIN:DAYLIGHT
TZOFFSETFROM:+0100
TZOFFSETTO:+0200
TZNAME:CEST
DTSTART:20270328T010000
END:DAYLIGHT
BEGIN:STANDARD
TZOFFSETFROM:+0200
TZOFFSETTO:+0100
TZNAME:CET
DTSTART:20271031T010000
END:STANDARD
END:VTIMEZONE
BEGIN:VEVENT
DTSTART;TZID=Europe/Amsterdam:20260107T190000
DTEND;TZID=Europe/Amsterdam:20260107T213000
DTSTAMP:20260426T023226
CREATED:20250705T084955Z
LAST-MODIFIED:20260106T163311Z
UID:10330-1767812400-1767821400@mensenintuitie.nl
SUMMARY:Praktijkavond voor (oud-)cursisten vervalt vanwege de weersomstandigheden!!
DESCRIPTION:Plekken beschikbaar: 9\n	\n    \n\n	    \n    \n        Registraties zijn gesloten voor dit evenement
URL:https://mensenintuitie.nl/agenda/praktijkavond-voor-oud-cursisten-38/
LOCATION:M&I Hoevelaken\, Hogebrinkerweg 10\, Hoevelaken\, 3871 KN
CATEGORIES:Praktijkavond
ORGANIZER;CN="M&I":MAILTO:info@mensenintuitie.nl
END:VEVENT
BEGIN:VEVENT
DTSTART;TZID=Europe/Amsterdam:20260110T090000
DTEND;TZID=Europe/Amsterdam:20260110T170000
DTSTAMP:20260426T023226
CREATED:20250222T140008Z
LAST-MODIFIED:20260108T233203Z
UID:9424-1768035600-1768064400@mensenintuitie.nl
SUMMARY:Gecanceled ! integratielessen 1 groep G Dag 4 Gecanceled!!
DESCRIPTION:
URL:https://mensenintuitie.nl/agenda/integratielessen-2-groep-g-dag-2/
CATEGORIES:Integratieles
END:VEVENT
BEGIN:VEVENT
DTSTART;TZID=Europe/Amsterdam:20260110T103000
DTEND;TZID=Europe/Amsterdam:20260110T120000
DTSTAMP:20260426T023226
CREATED:20250920T110447Z
LAST-MODIFIED:20260108T233321Z
UID:10666-1768041000-1768046400@mensenintuitie.nl
SUMMARY:Gecanceled!!! Gastenles Healing groep  C
DESCRIPTION:Je bent van harte welkom bij onze gastenles! Zorg ervoor dat je een kwartier van tevoren op de locatie bent. Je wordt opgehaald en krijgt een korte uitleg over wat je kunt verwachten. De les duurt in totaal ongeveer anderhalf uur. Als je wilt meedoen\, kun je je gratis inschrijven via de link bij het evenement. We kijken ernaar uit je te verwelkomen! \n\n\n\n	\n	\n	Plekken beschikbaar: 9\n	\n    \n\n	    \n    \n        Registraties zijn gesloten voor dit evenement
URL:https://mensenintuitie.nl/agenda/gastenles-healing-groep-c-4/
LOCATION:M&I Hoevelaken\, Hogebrinkerweg 10\, Hoevelaken\, 3871 KN
CATEGORIES:Gastenles
END:VEVENT
BEGIN:VEVENT
DTSTART;TZID=Europe/Amsterdam:20260111T090000
DTEND;TZID=Europe/Amsterdam:20260111T170000
DTSTAMP:20260426T023226
CREATED:20250705T102430Z
LAST-MODIFIED:20260108T233022Z
UID:10436-1768122000-1768150800@mensenintuitie.nl
SUMMARY:Gecanceled!!! Lightworker groep D\, dag 4
DESCRIPTION:
URL:https://mensenintuitie.nl/agenda/lightworker-groep-d-dag-4/
LOCATION:M&I Hoevelaken\, Hogebrinkerweg 10\, Hoevelaken\, 3871 KN
CATEGORIES:Lightworker
ORGANIZER;CN="M&I":MAILTO:info@mensenintuitie.nl
END:VEVENT
BEGIN:VEVENT
DTSTART;TZID=Europe/Amsterdam:20260111T090000
DTEND;TZID=Europe/Amsterdam:20260111T170000
DTSTAMP:20260426T023226
CREATED:20250705T103602Z
LAST-MODIFIED:20260108T233046Z
UID:10461-1768122000-1768150800@mensenintuitie.nl
SUMMARY:Gecanceled!!!  Reading groep E\, dag 8
DESCRIPTION:
URL:https://mensenintuitie.nl/agenda/reading-groep-e-dag-8/
LOCATION:M&I Hoevelaken\, Hogebrinkerweg 10\, Hoevelaken\, 3871 KN
CATEGORIES:Reading
END:VEVENT
BEGIN:VEVENT
DTSTART;TZID=Europe/Amsterdam:20260111T103000
DTEND;TZID=Europe/Amsterdam:20260111T120000
DTSTAMP:20260426T023226
CREATED:20250920T111114Z
LAST-MODIFIED:20260108T233255Z
UID:10680-1768127400-1768132800@mensenintuitie.nl
SUMMARY:Gecanceled!!!  Gastenles Reading groep  E
DESCRIPTION:Je bent van harte welkom bij onze gastenles! Zorg ervoor dat je een kwartier van tevoren op de locatie bent. Je wordt opgehaald en krijgt een korte uitleg over wat je kunt verwachten. De les duurt in totaal ongeveer anderhalf uur. Als je wilt meedoen\, kun je je gratis inschrijven via de link bij het evenement. We kijken ernaar uit je te verwelkomen! \n\n\n\n	\n	\n	Plekken beschikbaar: 9\n	\n    \n\n	    \n    \n        Registraties zijn gesloten voor dit evenement
URL:https://mensenintuitie.nl/agenda/gastenles-reading-groep-e-5/
LOCATION:M&I Hoevelaken\, Hogebrinkerweg 10\, Hoevelaken\, 3871 KN
CATEGORIES:Gastenles
END:VEVENT
BEGIN:VEVENT
DTSTART;TZID=Europe/Amsterdam:20260121T093000
DTEND;TZID=Europe/Amsterdam:20260121T173000
DTSTAMP:20260426T023227
CREATED:20250705T102456Z
LAST-MODIFIED:20260121T102605Z
UID:10435-1768987800-1769016600@mensenintuitie.nl
SUMMARY:Lightworker groep D
DESCRIPTION:
URL:https://mensenintuitie.nl/agenda/lightworker-groep-d-dag-5/
LOCATION:M&I Hoevelaken\, Hogebrinkerweg 10\, Hoevelaken\, 3871 KN
CATEGORIES:Lightworker
ORGANIZER;CN="M&I":MAILTO:info@mensenintuitie.nl
END:VEVENT
BEGIN:VEVENT
DTSTART;TZID=Europe/Amsterdam:20260121T190000
DTEND;TZID=Europe/Amsterdam:20260121T213000
DTSTAMP:20260426T023227
CREATED:20250705T085016Z
LAST-MODIFIED:20260121T155614Z
UID:10329-1769022000-1769031000@mensenintuitie.nl
SUMMARY:Praktijkavond voor (oud-)cursisten
DESCRIPTION:Plekken beschikbaar: 9\n	\n    \n\n	    \n    \n        Registraties zijn gesloten voor dit evenement
URL:https://mensenintuitie.nl/agenda/praktijkavond-voor-oud-cursisten-39/
LOCATION:M&I Hoevelaken\, Hogebrinkerweg 10\, Hoevelaken\, 3871 KN
CATEGORIES:Praktijkavond
ORGANIZER;CN="M&I":MAILTO:info@mensenintuitie.nl
END:VEVENT
BEGIN:VEVENT
DTSTART;TZID=Europe/Amsterdam:20260125T103000
DTEND;TZID=Europe/Amsterdam:20260125T120000
DTSTAMP:20260426T023227
CREATED:20260114T094639Z
LAST-MODIFIED:20260114T094639Z
UID:11042-1769337000-1769342400@mensenintuitie.nl
SUMMARY:Gastenles Healing groep  C
DESCRIPTION:Je bent van harte welkom bij onze gastenles! Zorg ervoor dat je een kwartier van tevoren op de locatie bent. Je wordt opgehaald en krijgt een korte uitleg over wat je kunt verwachten. De les duurt in totaal ongeveer anderhalf uur. Als je wilt meedoen\, kun je je gratis inschrijven via de link bij het evenement. We kijken ernaar uit je te verwelkomen! \n\n\n\n	\n	\n	Plekken beschikbaar: 9\n	\n    \n\n	    \n    \n        Registraties zijn gesloten voor dit evenement
URL:https://mensenintuitie.nl/agenda/gastenles-healing-groep-c-7/
LOCATION:M&I Hoevelaken\, Hogebrinkerweg 10\, Hoevelaken\, 3871 KN
CATEGORIES:Gastenles
END:VEVENT
BEGIN:VEVENT
DTSTART;TZID=Europe/Amsterdam:20260201T080000
DTEND;TZID=Europe/Amsterdam:20260201T170000
DTSTAMP:20260426T023227
CREATED:20260202T125709Z
LAST-MODIFIED:20260202T131105Z
UID:11101-1769932800-1769965200@mensenintuitie.nl
SUMMARY:test
DESCRIPTION:test \n\n\n\n\n\n\n\n\n\n\n\n	\n	\n	Plekken beschikbaar: 9\n	\n    \n\n	    \n    \n        Registraties zijn gesloten voor dit evenement
URL:https://mensenintuitie.nl/agenda/test-2/
END:VEVENT
BEGIN:VEVENT
DTSTART;TZID=Europe/Amsterdam:20260204T190000
DTEND;TZID=Europe/Amsterdam:20260204T213000
DTSTAMP:20260426T023227
CREATED:20250705T085037Z
LAST-MODIFIED:20260204T144259Z
UID:10328-1770231600-1770240600@mensenintuitie.nl
SUMMARY:Praktijkavond voor (oud-)cursisten
DESCRIPTION:Plekken beschikbaar: 9\n	\n    \n\n	    \n    \n        Registraties zijn gesloten voor dit evenement
URL:https://mensenintuitie.nl/agenda/praktijkavond-voor-oud-cursisten-40/
LOCATION:M&I Hoevelaken\, Hogebrinkerweg 10\, Hoevelaken\, 3871 KN
CATEGORIES:Praktijkavond
ORGANIZER;CN="M&I":MAILTO:info@mensenintuitie.nl
END:VEVENT
BEGIN:VEVENT
DTSTART;TZID=Europe/Amsterdam:20260206T093000
DTEND;TZID=Europe/Amsterdam:20260206T173000
DTSTAMP:20260426T023227
CREATED:20260113T150624Z
LAST-MODIFIED:20260121T103219Z
UID:11011-1770370200-1770399000@mensenintuitie.nl
SUMMARY:Intuïtieve Ontwikkeling blok 1\, groep O
DESCRIPTION:
URL:https://mensenintuitie.nl/agenda/intuitieve-ontwikkeling-groep-o-dag-1/
LOCATION:M&I Hoevelaken\, Hogebrinkerweg 10\, Hoevelaken\, 3871 KN
CATEGORIES:Intuïtieve Ontwikkeling
END:VEVENT
BEGIN:VEVENT
DTSTART;TZID=Europe/Amsterdam:20260207T090000
DTEND;TZID=Europe/Amsterdam:20260207T170000
DTSTAMP:20260426T023227
CREATED:20250705T103623Z
LAST-MODIFIED:20250705T103623Z
UID:10460-1770454800-1770483600@mensenintuitie.nl
SUMMARY:Reading groep E\, dag 9
DESCRIPTION:
URL:https://mensenintuitie.nl/agenda/reading-groep-e-dag-9/
LOCATION:M&I Hoevelaken\, Hogebrinkerweg 10\, Hoevelaken\, 3871 KN
CATEGORIES:Reading
END:VEVENT
BEGIN:VEVENT
DTSTART;TZID=Europe/Amsterdam:20260207T093000
DTEND;TZID=Europe/Amsterdam:20260207T173000
DTSTAMP:20260426T023227
CREATED:20250222T140008Z
LAST-MODIFIED:20260121T103459Z
UID:9425-1770456600-1770485400@mensenintuitie.nl
SUMMARY:integratielessen 2 groep G
DESCRIPTION:
URL:https://mensenintuitie.nl/agenda/integratielessen-2-groep-g-dag-3/
LOCATION:M&I Hoevelaken\, Hogebrinkerweg 10\, Hoevelaken\, 3871 KN
CATEGORIES:Integratieles
END:VEVENT
BEGIN:VEVENT
DTSTART;TZID=Europe/Amsterdam:20260207T103000
DTEND;TZID=Europe/Amsterdam:20260207T120000
DTSTAMP:20260426T023227
CREATED:20250920T111021Z
LAST-MODIFIED:20251023T093434Z
UID:10678-1770460200-1770465600@mensenintuitie.nl
SUMMARY:Gastenles Reading groep  E
DESCRIPTION:Je bent van harte welkom bij onze gastenles! Zorg ervoor dat je een kwartier van tevoren op de locatie bent. Je wordt opgehaald en krijgt een korte uitleg over wat je kunt verwachten. De les duurt in totaal ongeveer anderhalf uur. Als je wilt meedoen\, kun je je gratis inschrijven via de link bij het evenement. We kijken ernaar uit je te verwelkomen! \n\n\n\n	\n	\n	Plekken beschikbaar: 9\n	\n    \n\n	    \n    \n        Registraties zijn gesloten voor dit evenement
URL:https://mensenintuitie.nl/agenda/gastenles-reading-groep-e-4/
LOCATION:M&I Hoevelaken\, Hogebrinkerweg 10\, Hoevelaken\, 3871 KN
CATEGORIES:Gastenles
END:VEVENT
BEGIN:VEVENT
DTSTART;TZID=Europe/Amsterdam:20260208T090000
DTEND;TZID=Europe/Amsterdam:20260208T170000
DTSTAMP:20260426T023227
CREATED:20250705T103644Z
LAST-MODIFIED:20250705T103644Z
UID:10459-1770541200-1770570000@mensenintuitie.nl
SUMMARY:Reading groep E\, dag 10
DESCRIPTION:
URL:https://mensenintuitie.nl/agenda/reading-groep-e-dag-10/
LOCATION:M&I Hoevelaken\, Hogebrinkerweg 10\, Hoevelaken\, 3871 KN
CATEGORIES:Reading
END:VEVENT
BEGIN:VEVENT
DTSTART;TZID=Europe/Amsterdam:20260213T100000
DTEND;TZID=Europe/Amsterdam:20260213T170000
DTSTAMP:20260426T023227
CREATED:20260109T153717Z
LAST-MODIFIED:20260111T215815Z
UID:10989-1770976800-1771002000@mensenintuitie.nl
SUMMARY:Overprikkeling & Mentale Rust — Dagworkshop “Ruimte in je Hoofd”
DESCRIPTION:Voel je je vaak overprikkeld\, vol in je hoofd en leeg in je lijf? Deze dag brengt je terug naar rust\, zachtheid en innerlijke helderheid. Leer je systeem kalmeren\, je energie begrenzen en opnieuw ademen vanuit jezelf. Een dag waarop je thuiskomt bij stilte — in jezelf. \n\n\n\nDagprogramma \n\n\n\n• Aankomst & grondingsmeditatie \n\n\n\n• Lichaamsscan: waar stapelt spanning zich op? \n\n\n\n• Oefening energetische grenzen \n\n\n\n• Ademwerk voor rust in het zenuwstelsel \n\n\n\n• Stiltewandeling \n\n\n\n• Hartmeditatie voor innerlijke helderheid \n\n\n\n• Reflectie & integratie
URL:https://mensenintuitie.nl/agenda/overprikkeling-mentale-rust-dagworkshop-ruimte-in-je-hoofd/
LOCATION:M&I Hoevelaken\, Hogebrinkerweg 10\, Hoevelaken\, 3871 KN
CATEGORIES:De Mens & Intuïtie Methode,Trainingen
END:VEVENT
BEGIN:VEVENT
DTSTART;TZID=Europe/Amsterdam:20260215T103000
DTEND;TZID=Europe/Amsterdam:20260215T120000
DTSTAMP:20260426T023227
CREATED:20250920T110557Z
LAST-MODIFIED:20260213T195111Z
UID:10670-1771151400-1771156800@mensenintuitie.nl
SUMMARY:Gastenles Healing groep  C
DESCRIPTION:Je bent van harte welkom bij onze gastenles! Zorg ervoor dat je een kwartier van tevoren op de locatie bent. Je wordt opgehaald en krijgt een korte uitleg over wat je kunt verwachten. De les duurt in totaal ongeveer anderhalf uur. Als je wilt meedoen\, kun je je gratis inschrijven via de link bij het evenement. We kijken ernaar uit je te verwelkomen! \n\n\n\n	\n	\n	Plekken beschikbaar: 9\n	\n    \n\n	    \n    \n        Registraties zijn gesloten voor dit evenement
URL:https://mensenintuitie.nl/agenda/gastenles-healing-groep-c-6/
LOCATION:M&I Hoevelaken\, Hogebrinkerweg 10\, Hoevelaken\, 3871 KN
CATEGORIES:Gastenles
END:VEVENT
BEGIN:VEVENT
DTSTART;TZID=Europe/Amsterdam:20260223T100000
DTEND;TZID=Europe/Amsterdam:20260223T170000
DTSTAMP:20260426T023227
CREATED:20260111T220529Z
LAST-MODIFIED:20260111T220530Z
UID:10995-1771840800-1771866000@mensenintuitie.nl
SUMMARY:Grenzen Aangeven — Dagworkshop “Jouw Ruimte\, Jouw Kracht”
DESCRIPTION:Heb je moeite met nee zeggen? Geef je vaak meer dan goed voor je is? Ontdek hoe je stevig in je eigen energie blijft zonder hard te worden. Deze dag leert je grenzen voelen\, benoemen en bewaken — zacht maar duidelijk. \n\n\n\nDagprogramma \n\n\n\n• Aankomen in je lichaam \n\n\n\n• Oefening: waar begint en eindigt mijn energie? \n\n\n\n• Rol van het hart bij gezonde grenzen \n\n\n\n• Duo-opdracht: de zachte nee \n\n\n\n• Oefening: energetische wilsruimte \n\n\n\n• Intuïtieve communicatie \n\n\n\n• Integratie & afronding
URL:https://mensenintuitie.nl/agenda/grenzen-aangeven-dagworkshop-jouw-ruimte-jouw-kracht/
LOCATION:M&I Hoevelaken\, Hogebrinkerweg 10\, Hoevelaken\, 3871 KN
CATEGORIES:De Mens & Intuïtie Methode
END:VEVENT
BEGIN:VEVENT
DTSTART;TZID=Europe/Amsterdam:20260225T190000
DTEND;TZID=Europe/Amsterdam:20260225T213000
DTSTAMP:20260426T023227
CREATED:20250705T085103Z
LAST-MODIFIED:20260225T123004Z
UID:10327-1772046000-1772055000@mensenintuitie.nl
SUMMARY:Praktijkavond voor (oud-)cursisten (gaat definitief door! )
DESCRIPTION:Plekken beschikbaar: 9\n	\n    \n\n	    \n    \n        Registraties zijn gesloten voor dit evenement
URL:https://mensenintuitie.nl/agenda/praktijkavond-voor-oud-cursisten-41/
LOCATION:M&I Hoevelaken\, Hogebrinkerweg 10\, Hoevelaken\, 3871 KN
CATEGORIES:Praktijkavond
ORGANIZER;CN="M&I":MAILTO:info@mensenintuitie.nl
END:VEVENT
BEGIN:VEVENT
DTSTART;TZID=Europe/Amsterdam:20260227T090000
DTEND;TZID=Europe/Amsterdam:20260227T170000
DTSTAMP:20260426T023227
CREATED:20250705T102517Z
LAST-MODIFIED:20250705T102518Z
UID:10428-1772182800-1772211600@mensenintuitie.nl
SUMMARY:Lightworker groep D\, dag 6
DESCRIPTION:
URL:https://mensenintuitie.nl/agenda/lightworker-groep-d-dag-6/
LOCATION:M&I Hoevelaken\, Hogebrinkerweg 10\, Hoevelaken\, 3871 KN
CATEGORIES:Lightworker
ORGANIZER;CN="M&I":MAILTO:info@mensenintuitie.nl
END:VEVENT
BEGIN:VEVENT
DTSTART;TZID=Europe/Amsterdam:20260227T103000
DTEND;TZID=Europe/Amsterdam:20260227T120000
DTSTAMP:20260426T023227
CREATED:20250920T113354Z
LAST-MODIFIED:20260114T093912Z
UID:10703-1772188200-1772193600@mensenintuitie.nl
SUMMARY:Gastenles Lightworker Groep D
DESCRIPTION:Je bent van harte welkom bij onze gastenles! Zorg ervoor dat je een kwartier van tevoren op de locatie bent. Je wordt opgehaald en krijgt een korte uitleg over wat je kunt verwachten. De les duurt in totaal ongeveer anderhalf uur. Als je wilt meedoen\, kun je je gratis inschrijven via de link bij het evenement. We kijken ernaar uit je te verwelkomen! \n\n\n	\n	\n	Plekken beschikbaar: 9\n	\n    \n\n	    \n    \n        Registraties zijn gesloten voor dit evenement
URL:https://mensenintuitie.nl/agenda/gastenles-lightworker-groep-d-4/
LOCATION:M&I Hoevelaken\, Hogebrinkerweg 10\, Hoevelaken\, 3871 KN
CATEGORIES:Gastenles,Lightworker
ORGANIZER;CN="M&I":MAILTO:info@mensenintuitie.nl
END:VEVENT
BEGIN:VEVENT
DTSTART;TZID=Europe/Amsterdam:20260228T090000
DTEND;TZID=Europe/Amsterdam:20260228T170000
DTSTAMP:20260426T023227
CREATED:20250705T103712Z
LAST-MODIFIED:20250705T103712Z
UID:10458-1772269200-1772298000@mensenintuitie.nl
SUMMARY:Reading groep E\, dag 11
DESCRIPTION:
URL:https://mensenintuitie.nl/agenda/reading-groep-e-dag-11/
LOCATION:M&I Hoevelaken\, Hogebrinkerweg 10\, Hoevelaken\, 3871 KN
CATEGORIES:Reading
END:VEVENT
BEGIN:VEVENT
DTSTART;TZID=Europe/Amsterdam:20260301T090000
DTEND;TZID=Europe/Amsterdam:20260301T170000
DTSTAMP:20260426T023227
CREATED:20250705T103731Z
LAST-MODIFIED:20250705T103731Z
UID:10457-1772355600-1772384400@mensenintuitie.nl
SUMMARY:Reading groep E\, dag 12
DESCRIPTION:
URL:https://mensenintuitie.nl/agenda/reading-groep-e-dag-12/
LOCATION:M&I Hoevelaken\, Hogebrinkerweg 10\, Hoevelaken\, 3871 KN
CATEGORIES:Reading
END:VEVENT
BEGIN:VEVENT
DTSTART;TZID=Europe/Amsterdam:20260301T103000
DTEND;TZID=Europe/Amsterdam:20260301T120000
DTSTAMP:20260426T023227
CREATED:20251023T094120Z
LAST-MODIFIED:20251023T094121Z
UID:10852-1772361000-1772366400@mensenintuitie.nl
SUMMARY:Gastenles Reading groep  E
DESCRIPTION:Je bent van harte welkom bij onze gastenles! Zorg ervoor dat je een kwartier van tevoren op de locatie bent. Je wordt opgehaald en krijgt een korte uitleg over wat je kunt verwachten. De les duurt in totaal ongeveer anderhalf uur. Als je wilt meedoen\, kun je je gratis inschrijven via de link bij het evenement. We kijken ernaar uit je te verwelkomen! \n\n\n\n	\n	\n	Plekken beschikbaar: 9\n	\n    \n\n	    \n    \n        Registraties zijn gesloten voor dit evenement
URL:https://mensenintuitie.nl/agenda/gastenles-reading-groep-e-9/
LOCATION:M&I Hoevelaken\, Hogebrinkerweg 10\, Hoevelaken\, 3871 KN
CATEGORIES:Gastenles
END:VEVENT
BEGIN:VEVENT
DTSTART;TZID=Europe/Amsterdam:20260306T093000
DTEND;TZID=Europe/Amsterdam:20260306T173000
DTSTAMP:20260426T023227
CREATED:20260113T150802Z
LAST-MODIFIED:20260113T151642Z
UID:11013-1772789400-1772818200@mensenintuitie.nl
SUMMARY:Intuïtieve Ontwikkeling blok 1\, groep O\, dag 2
DESCRIPTION:
URL:https://mensenintuitie.nl/agenda/intuitieve-ontwikkeling-1-groep-o-dag-2/
CATEGORIES:Intuïtieve Ontwikkeling
END:VEVENT
BEGIN:VEVENT
DTSTART;TZID=Europe/Amsterdam:20260306T100000
DTEND;TZID=Europe/Amsterdam:20260306T170000
DTSTAMP:20260426T023227
CREATED:20260111T220853Z
LAST-MODIFIED:20260111T220854Z
UID:10998-1772791200-1772816400@mensenintuitie.nl
SUMMARY:Verbinding met jezelf kwijt — Dagworkshop “Weer Thuiskomen in Jezelf”
DESCRIPTION:Voel je dat je jezelf een beetje kwijt bent? Dat je leeft vanuit moeten in plaats van vanuit wat klopt? Deze dag helpt je terugkeren naar je essentie. Naar wie je bent\, niet wie je moet zijn. \n\n\n\nDagprogramma \n\n\n\n• Stilte-opening \n\n\n\n• Hara-ademhaling \n\n\n\n• Oefening: luisteren naar innerlijke signalen \n\n\n\n• Writing-from-within: wat wil jouw hart? \n\n\n\n• Visualisatie: ontmoeten van je innerlijke bron \n\n\n\n• De volgende stap van trouw aan jezelf \n\n\n\n• Afsluiting
URL:https://mensenintuitie.nl/agenda/verbinding-met-jezelf-kwijt-dagworkshop-weer-thuiskomen-in-jezelf/
CATEGORIES:De Mens & Intuïtie Methode
END:VEVENT
BEGIN:VEVENT
DTSTART;TZID=Europe/Amsterdam:20260307T090000
DTEND;TZID=Europe/Amsterdam:20260307T170000
DTSTAMP:20260426T023227
CREATED:20250222T140008Z
LAST-MODIFIED:20251023T092430Z
UID:9426-1772874000-1772902800@mensenintuitie.nl
SUMMARY:integratielessen 2 groep G Dag 2
DESCRIPTION:
URL:https://mensenintuitie.nl/agenda/integratielessen-2-groep-g-dag-4/
CATEGORIES:Integratieles
END:VEVENT
BEGIN:VEVENT
DTSTART;TZID=Europe/Amsterdam:20260309T100000
DTEND;TZID=Europe/Amsterdam:20260309T170000
DTSTAMP:20260426T023227
CREATED:20260111T221448Z
LAST-MODIFIED:20260111T221449Z
UID:11004-1773050400-1773075600@mensenintuitie.nl
SUMMARY:Emoties & Gevoeligheid — Dagworkshop “Voelen zonder te Verdrinken”
DESCRIPTION:Ben je snel geraakt\, overspoeld of dicht je jezelf juist af? In deze workshop leer je voelen met zachtheid\, zonder te verdrinken of te verharden. Een dag vol lichaamsbewustzijn\, hartopeners en energetische regulatie. \n\n\n\nDagprogramma \n\n\n\n• Gronding & hartadem \n\n\n\n• Oefening: voelen zonder mee te gaan \n\n\n\n• Emotie als energie leren herkennen \n\n\n\n• Oefening: van overspoeling naar aanwezigheid \n\n\n\n• Hartmeditatie \n\n\n\n• Vrij bewegingswerk \n\n\n\n• Afsluitende reflectie
URL:https://mensenintuitie.nl/agenda/emoties-gevoeligheid-dagworkshop-voelen-zonder-te-verdrinken/
CATEGORIES:De Mens & Intuïtie Methode
END:VEVENT
BEGIN:VEVENT
DTSTART;TZID=Europe/Amsterdam:20260311T190000
DTEND;TZID=Europe/Amsterdam:20260311T213000
DTSTAMP:20260426T023227
CREATED:20250705T085122Z
LAST-MODIFIED:20260311T142441Z
UID:10326-1773255600-1773264600@mensenintuitie.nl
SUMMARY:Praktijkavond voor (oud-)cursisten (gaat definitief door!)
DESCRIPTION:Plekken beschikbaar: 9\n	\n    \n\n	    \n    \n        Registraties zijn gesloten voor dit evenement
URL:https://mensenintuitie.nl/agenda/praktijkavond-voor-oud-cursisten-42/
LOCATION:M&I Hoevelaken\, Hogebrinkerweg 10\, Hoevelaken\, 3871 KN
CATEGORIES:Praktijkavond
ORGANIZER;CN="M&I":MAILTO:info@mensenintuitie.nl
END:VEVENT
END:VCALENDAR